Workbook

Sheet table 1
A1: Πίνακας 1. Διεθνείς αεροπορικές αφίξεις στα κυριότερα αεροδρόμια, Δεκέμβριος 2025
A2: 2025 | B2: Αθήνα | C2: Θεσσαλονίκη | D2: Ρόδος | E2: Κως | F2: Kάρπαθος | G2: Ηράκλειο | H2: Χανιά | I2: Κέρκυρα | J2: Ζάκυνθος | K2: Κεφαλονιά | L2: Άκτιο | M2: Μύκονος | N2: Σαντορίνη | O2: Άραξος | P2: Καλαμάτα | Q2: Σάμος | R2: Σκιάθος | S2: Καβάλα | T2: Μυτιλήνη | U2: Σύνολο
A3: Ιανουάριος | B3: 403765 | C3: 121952 | D3: 0 | E3: 0 | F3: 0 | G3: 1529 | H3: 1539 | I3: 0 | J3: 0 | K3: 0 | L3: 0 | M3: 0 | N3: 0 | O3: 0 | P3: 0 | Q3: 0 | R3: 0 | S3: 0 | T3: 0 | U3: =SUM(B3:T3) -> 528785
A4: Φεβρουάριος | B4: 357905 | C4: 121955 | D4: 4093 | E4: 0 | F4: 0 | G4: 1718 | H4: 1141 | I4: 0 | J4: 0 | K4: 0 | L4: 0 | M4: 0 | N4: 0 | O4: 0 | P4: 0 | Q4: 0 | R4: 0 | S4: 0 | T4: 0 | U4: =SUM(B4:T4) -> 486812
A5: Μάρτιος | B5: 471065 | C5: 159815 | D5: 8475 | E5: 146 | F5: 0 | G5: 13275 | H5: 3661 | I5: 3002 | J5: 276 | K5: 0 | L5: 162 | M5: 246 | N5: 785 | O5: 0 | P5: 1902 | Q5: 0 | R5: 0 | S5: 0 | T5: 0 | U5: =SUM(B5:T5) -> 662810
A6: Απρίλιος | B6: 663334 | C6: 223874 | D6: 172638 | E6: 31860 | F6: 632 | G6: 251062 | H6: 73156 | I6: 79358 | J6: 16965 | K6: 5022 | L6: 5653 | M6: 9821 | N6: 22813 | O6: 385 | P6: 7630 | Q6: 2364 | R6: 162 | S6: 2255 | T6: 1024 | U6: =SUM(B6:T6) -> 1570008
A7: Μάιος | B7: 901548 | C7: 264016 | D7: 378396 | E7: 183527 | F7: 7055 | G7: 474489 | H7: 191725 | I7: 224272 | J7: 122374 | K7: 43812 | L7: 46507 | M7: 37758 | N7: 61286 | O7: 9271 | P7: 19162 | Q7: 15888 | R7: 27075 | S7: 10658 | T7: 7833 | U7: =SUM(B7:T7) -> 3026652
A8: Ιούνιος | B8: 1025617 | C8: 279109 | D8: 493083 | E8: 236598 | F8: 17753 | G8: 624610 | H8: 273103 | I8: 359087 | J8: 203620 | K8: 72283 | L8: 79959 | M8: 90973 | N8: 104113 | O8: 15517 | P8: 27071 | Q8: 24468 | R8: 58510 | S8: 24894 | T8: 16332 | U8: =SUM(B8:T8) -> 4026700
A9: Ιούλιος | B9: 1101805 | C9: 343735 | D9: 594059 | E9: 285628 | F9: 23043 | G9: 778598 | H9: 318346 | I9: 449126 | J9: 256636 | K9: 93248 | L9: 100413 | M9: 150690 | N9: 159462 | O9: 20216 | P9: 32927 | Q9: 29515 | R9: 75677 | S9: 27318 | T9: 19774 | U9: =SUM(B9:T9) -> 4860216
A10: Αύγουστος | B10: 1067991 | C10: 327900 | D10: 593894 | E10: 286547 | F10: 24055 | G10: 783841 | H10: 301924 | I10: 442977 | J10: 249510 | K10: 89131 | L10: 94813 | M10: 146167 | N10: 155561 | O10: 19160 | P10: 31869 | Q10: 29484 | R10: 73360 | S10: 26907 | T10: 19375 | U10: =SUM(B10:T10) -> 4764466
A11: Σεπτέμβριος | B11: 957724 | C11: 282630 | D11: 483312 | E11: 233455 | F11: 17166 | G11: 635258 | H11: 256186 | I11: 343211 | J11: 181054 | K11: 62023 | L11: 74688 | M11: 78995 | N11: 101125 | O11: 15927 | P11: 30066 | Q11: 25976 | R11: 45878 | S11: 19911 | T11: 16070 | U11: =SUM(B11:T11) -> 3860655
A12: Οκτώβριος | B12: 788508 | C12: 246864 | D12: 315743 | E12: 142195 | F12: 1783 | G12: 449590 | H12: 150266 | I12: 174804 | J12: 53567 | K12: 11190 | L12: 20983 | M12: 19664 | N12: 47870 | O12: 4985 | P12: 16814 | Q12: 5649 | R12: 4032 | S12: 4940 | T12: 2227 | U12: =SUM(B12:T12) -> 2461674
A13: Νοέμβριος | B13: 505797 | C13: 144658 | D13: 10265 | E13: 1981 | F13: 0 | G13: 25279 | H13: 2996 | I13: 1828 | J13: 258 | K13: 128 | L13: 87 | M13: 59 | N13: 538 | O13: 0 | P13: 2289 | Q13: 0 | R13: 0 | S13: 152 | T13: 0 | U13: =SUM(B13:T13) -> 696315
A14: Δεκέμβριος | B14: 472682 | C14: 186865 | D14: 1093 | E14: 0 | F14: 0 | G14: 11294 | H14: 1944 | I14: 0 | J14: 0 | K14: 0 | L14: 0 | M14: 0 | N14: 0 | O14: 0 | P14: 0 | Q14: 0 | R14: 0 | S14: 0 | T14: 0 | U14: =SUM(B14:T14) -> 673878
A15: Σύνολο | B15: =SUM(B3:B14) -> 8717741 | C15: =SUM(C3:C14) -> 2703373 | D15: =SUM(D3:D14) -> 3055051 | E15: =SUM(E3:E14) -> 1401937 | F15: =SUM(F3:F14) -> 91487 | G15: =SUM(G3:G14) -> 4050543 | H15: =SUM(H3:H14) -> 1575987 | I15: =SUM(I3:I14) -> 2077665 | ... U15: =SUM(U3:U14) -> 27618971
A17: 2024 | B17: =B2 -> Αθήνα | C17: =C2 -> Θεσσαλονίκη | D17: =D2 -> Ρόδος | E17: =E2 -> Κως | F17: =F2 -> Kάρπαθος | G17: =G2 -> Ηράκλειο | H17: =H2 -> Χανιά | I17: =I2 -> Κέρκυρα | ... U17: =U2 -> Σύνολο
A18: Ιανουάριος | B18: 366841 | C18: 114619 | D18: 0 | E18: 0 | F18: 0 | G18: 1671 | H18: 1412 | I18: 0 | J18: 0 | K18: 0 | L18: 0 | M18: 0 | N18: 0 | O18: 0 | P18: 0 | Q18: 0 | R18: 0 | S18: 0 | T18: 0 | U18: =SUM(B18:T18) -> 484543
A19: Φεβρουάριος | B19: 348717 | C19: 105078 | D19: 3762 | E19: 0 | F19: 0 | G19: 2268 | H19: 1444 | I19: 0 | J19: 0 | K19: 0 | L19: 0 | M19: 0 | N19: 0 | O19: 0 | P19: 250 | Q19: 0 | R19: 0 | S19: 0 | T19: 0 | U19: =SUM(B19:T19) -> 461519
A20: Μάρτιος | B20: 448784 | C20: 151041 | D20: 14960 | E20: 983 | F20: 0 | G20: 20813 | H20: 6464 | I20: 7840 | J20: 224 | K20: 0 | L20: 183 | M20: 250 | N20: 1768 | O20: 0 | P20: 2209 | Q20: 0 | R20: 0 | S20: 399 | T20: 0 | U20: =SUM(B20:T20) -> 655918
A21: Απρίλιος | B21: 629145 | C21: 199728 | D21: 157472 | E21: 26836 | F21: 650 | G21: 206227 | H21: 71787 | I21: 75805 | J21: 16239 | K21: 3821 | L21: 5721 | M21: 10679 | N21: 32119 | O21: 0 | P21: 6732 | Q21: 1366 | R21: 1317 | S21: 1496 | T21: 1094 | U21: =SUM(B21:T21) -> 1448234
A22: Μάιος | B22: 810083 | C22: 247189 | D22: 377023 | E22: 170907 | F22: 8754 | G22: 466405 | H22: 181093 | I22: 207777 | J22: 120298 | K22: 39628 | L22: 42723 | M22: 33962 | N22: 77860 | O22: 7040 | P22: 16873 | Q22: 15760 | R22: 29124 | S22: 12595 | T22: 8558 | U22: =SUM(B22:T22) -> 2873652
A23: Ιούνιος | B23: 884893 | C23: 259296 | D23: 494151 | E23: 239238 | F23: 19589 | G23: 595620 | H23: 269710 | I23: 341944 | J23: 190474 | K23: 72777 | L23: 77624 | M23: 91803 | N23: 121753 | O23: 14532 | P23: 26151 | Q23: 27654 | R23: 54938 | S23: 23241 | T23: 15592 | U23: =SUM(B23:T23) -> 3820980
A24: Ιούλιος | B24: 1009462 | C24: 308272 | D24: 582845 | E24: 281189 | F24: 25121 | G24: 744998 | H24: 316573 | I24: 430670 | J24: 248269 | K24: 91543 | L24: 95806 | M24: 144954 | N24: 174062 | O24: 18564 | P24: 30016 | Q24: 31436 | R24: 68689 | S24: 27204 | T24: 18479 | U24: =SUM(B24:T24) -> 4648152
A25: Αύγουστος | B25: 972929 | C25: 289875 | D25: 566870 | E25: 277860 | F25: 25338 | G25: 733259 | H25: 285168 | I25: 420635 | J25: 241368 | K25: 91171 | L25: 85768 | M25: 142297 | N25: 167111 | O25: 17601 | P25: 27609 | Q25: 30725 | R25: 67077 | S25: 25387 | T25: 16555 | U25: =SUM(B25:T25) -> 4484603
A26: Σεπτέμβριος | B26: 871020 | C26: 257007 | D26: 475026 | E26: 222340 | F26: 18329 | G26: 612129 | H26: 249082 | I26: 315440 | J26: 180460 | K26: 60785 | L26: 68554 | M26: 78490 | N26: 119564 | O26: 14633 | P26: 25920 | Q26: 26053 | R26: 43591 | S26: 19392 | T26: 15219 | U26: =SUM(B26:T26) -> 3673034
A27: Οκτώβριος | B27: 747346 | C27: 217378 | D27: 310019 | E27: 133163 | F27: 1523 | G27: 404709 | H27: 138335 | I27: 154573 | J27: 53405 | K27: 11547 | L27: 19747 | M27: 20795 | N27: 61520 | O27: 4776 | P27: 16011 | Q27: 4971 | R27: 4076 | S27: 5112 | T27: 1371 | U27: =SUM(B27:T27) -> 2310377
A28: Νοέμβριος | B28: 449914 | C28: 128708 | D28: 6799 | E28: 793 | F28: 0 | G28: 17635 | H28: 2592 | I28: 2973 | J28: 81 | K28: 82 | L28: 167 | M28: 57 | N28: 522 | O28: 0 | P28: 1523 | Q28: 55 | R28: 21 | S28: 77 | T28: 0 | U28: =SUM(B28:T28) -> 611999
A29: Δεκέμβριος | B29: 380969 | C29: 170121 | D29: 3 | E29: 0 | F29: 0 | G29: 3659 | H29: 1903 | I29: 0 | J29: 0 | K29: 0 | L29: 0 | M29: 0 | N29: 0 | O29: 0 | P29: 189 | Q29: 0 | R29: 0 | S29: 0 | T29: 0 | U29: =SUM(B29:T29) -> 556844
A30: Σύνολο | B30: =SUM(B18:B29) -> 7920103 | C30: =SUM(C18:C29) -> 2448312 | D30: =SUM(D18:D29) -> 2988930 | E30: =SUM(E18:E29) -> 1353309 | F30: =SUM(F18:F29) -> 99304 | G30: =SUM(G18:G29) -> 3809393 | H30: =SUM(H18:H29) -> 1525563 | I30: =SUM(I18:I29) -> 1957657 | ... U30: =SUM(U18:U29) -> 26029855
A31: =A15 -> Σύνολο | B31: =SUM(B18:B29) -> 7920103 | C31: =SUM(C18:C29) -> 2448312 | D31: =SUM(D18:D29) -> 2988930 | E31: =SUM(E18:E29) -> 1353309 | F31: =SUM(F18:F29) -> 99304 | G31: =SUM(G18:G29) -> 3809393 | H31: =SUM(H18:H29) -> 1525563 | I31: =SUM(I18:I29) -> 1957657 | ... U31: =SUM(U18:U29) -> 26029855
A33: Δ2025/24 | B33: =B2 -> Αθήνα | C33: =C2 -> Θεσσαλονίκη | D33: =D2 -> Ρόδος | E33: =E2 -> Κως | F33: =F2 -> Kάρπαθος | G33: =G2 -> Ηράκλειο | H33: =H2 -> Χανιά | I33: =I2 -> Κέρκυρα | ... U33: =U2 -> Σύνολο
A34: Ιανουάριος | B34: =IF(B18=0,"",(B3/B18 -1)) -> 0.10065396 | C34: =IF(C18=0,"",(C3/C18 -1)) -> 0.063977177 | D34: =IF(D18=0,"",(D3/D18 -1)) | E34: =IF(E18=0,"",(E3/E18 -1)) | F34: =IF(F18=0,"",(F3/F18 -1)) | G34: =IF(G18=0,"",(G3/G18 -1)) -> -0.084979054 | H34: =IF(H18=0,"",(H3/H18 -1)) -> 0.089943343 | I34: =IF(I18=0,"",(I3/I18 -1)) | ... U34: =IF(U18=0,"",(U3/U18 -1)) -> 0.091306654
A35: Φεβρουάριος | B35: =IF(B19=0,"",(B4/B19 -1)) -> 0.026348013 | C35: =IF(C19=0,"",(C4/C19 -1)) -> 0.16061402 | D35: =IF(D19=0,"",(D4/D19 -1)) -> 0.087985114 | E35: =IF(E19=0,"",(E4/E19 -1)) | F35: =IF(F19=0,"",(F4/F19 -1)) | G35: =IF(G19=0,"",(G4/G19 -1)) -> -0.24250441 | H35: =IF(H19=0,"",(H4/H19 -1)) -> -0.2098338 | I35: =IF(I19=0,"",(I4/I19 -1)) | ... U35: =IF(U19=0,"",(U4/U19 -1)) -> 0.054803811
A36: Μάρτιος | B36: =IF(B20=0,"",(B5/B20 -1)) -> 0.049647492 | C36: =IF(C20=0,"",(C5/C20 -1)) -> 0.058090187 | D36: =IF(D20=0,"",(D5/D20 -1)) -> -0.4334893 | E36: =IF(E20=0,"",(E5/E20 -1)) -> -0.85147508 | F36: =IF(F20=0,"",(F5/F20 -1)) | G36: =IF(G20=0,"",(G5/G20 -1)) -> -0.36217749 | H36: =IF(H20=0,"",(H5/H20 -1)) -> -0.43363243 | I36: =IF(I20=0,"",(I5/I20 -1)) -> -0.61709184 | ... U36: =IF(U20=0,"",(U5/U20 -1)) -> 0.010507411
A37: Απρίλιος | B37: =IF(B21=0,"",(B6/B21 -1)) -> 0.054342004 | C37: =IF(C21=0,"",(C6/C21 -1)) -> 0.12089442 | D37: =IF(D21=0,"",(D6/D21 -1)) -> 0.096309185 | E37: =IF(E21=0,"",(E6/E21 -1)) -> 0.18721121 | F37: =IF(F21=0,"",(F6/F21 -1)) -> -0.027692308 | G37: =IF(G21=0,"",(G6/G21 -1)) -> 0.21740606 | H37: =IF(H21=0,"",(H6/H21 -1)) -> 0.019070305 | I37: =IF(I21=0,"",(I6/I21 -1)) -> 0.046870259 | ... U37: =IF(U21=0,"",(U6/U21 -1)) -> 0.084084478
A38: Μάιος | B38: =IF(B22=0,"",(B7/B22 -1)) -> 0.11290818 | C38: =IF(C22=0,"",(C7/C22 -1)) -> 0.068073418 | D38: =IF(D22=0,"",(D7/D22 -1)) -> 0.0036416876 | E38: =IF(E22=0,"",(E7/E22 -1)) -> 0.073841329 | F38: =IF(F22=0,"",(F7/F22 -1)) -> -0.19408271 | G38: =IF(G22=0,"",(G7/G22 -1)) -> 0.017332576 | H38: =IF(H22=0,"",(H7/H22 -1)) -> 0.058710165 | I38: =IF(I22=0,"",(I7/I22 -1)) -> 0.079387998 | ... U38: =IF(U22=0,"",(U7/U22 -1)) -> 0.053242355
A39: Ιούνιος | B39: =IF(B23=0,"",(B8/B23 -1)) -> 0.1590294 | C39: =IF(C23=0,"",(C8/C23 -1)) -> 0.076410743 | D39: =IF(D23=0,"",(D8/D23 -1)) -> -0.0021612827 | E39: =IF(E23=0,"",(E8/E23 -1)) -> -0.011035036 | F39: =IF(F23=0,"",(F8/F23 -1)) -> -0.093726071 | G39: =IF(G23=0,"",(G8/G23 -1)) -> 0.048671972 | H39: =IF(H23=0,"",(H8/H23 -1)) -> 0.012580179 | I39: =IF(I23=0,"",(I8/I23 -1)) -> 0.05013394 | ... U39: =IF(U23=0,"",(U8/U23 -1)) -> 0.053839591
A40: Ιούλιος | B40: =IF(B24=0,"",(B9/B24 -1)) -> 0.09147744 | C40: =IF(C24=0,"",(C9/C24 -1)) -> 0.11503802 | D40: =IF(D24=0,"",(D9/D24 -1)) -> 0.019240107 | E40: =IF(E24=0,"",(E9/E24 -1)) -> 0.015786535 | F40: =IF(F24=0,"",(F9/F24 -1)) -> -0.082719637 | G40: =IF(G24=0,"",(G9/G24 -1)) -> 0.045100792 | H40: =IF(H24=0,"",(H9/H24 -1)) -> 0.005600604 | I40: =IF(I24=0,"",(I9/I24 -1)) -> 0.042854157 | ... U40: =IF(U24=0,"",(U9/U24 -1)) -> 0.045623293
A41: Αύγουστος | B41: =IF(B25=0,"",(B10/B25 -1)) -> 0.097707027 | C41: =IF(C25=0,"",(C10/C25 -1)) -> 0.13117723 | D41: =IF(D25=0,"",(D10/D25 -1)) -> 0.047672306 | E41: =IF(E25=0,"",(E10/E25 -1)) -> 0.031263946 | F41: =IF(F25=0,"",(F10/F25 -1)) -> -0.050635409 | G41: =IF(G25=0,"",(G10/G25 -1)) -> 0.068982447 | H41: =IF(H25=0,"",(H10/H25 -1)) -> 0.058758346 | I41: =IF(I25=0,"",(I10/I25 -1)) -> 0.053114933 | ... U41: =IF(U25=0,"",(U10/U25 -1)) -> 0.062405301
A42: Σεπτέμβριος | B42: =IF(B26=0,"",(B11/B26 -1)) -> 0.099543064 | C42: =IF(C26=0,"",(C11/C26 -1)) -> 0.099697674 | D42: =IF(D26=0,"",(D11/D26 -1)) -> 0.017443256 | E42: =IF(E26=0,"",(E11/E26 -1)) -> 0.049991005 | F42: =IF(F26=0,"",(F11/F26 -1)) -> -0.063451361 | G42: =IF(G26=0,"",(G11/G26 -1)) -> 0.037784519 | H42: =IF(H26=0,"",(H11/H26 -1)) -> 0.028520728 | I42: =IF(I26=0,"",(I11/I26 -1)) -> 0.08803893 | ... U42: =IF(U26=0,"",(U11/U26 -1)) -> 0.05108066
A43: Οκτώβριος | B43: =IF(B27=0,"",(B12/B27 -1)) -> 0.055077568 | C43: =IF(C27=0,"",(C12/C27 -1)) -> 0.1356439 | D43: =IF(D27=0,"",(D12/D27 -1)) -> 0.018463385 | E43: =IF(E27=0,"",(E12/E27 -1)) -> 0.067826649 | F43: =IF(F27=0,"",(F12/F27 -1)) -> 0.17071569 | G43: =IF(G27=0,"",(G12/G27 -1)) -> 0.11089697 | H43: =IF(H27=0,"",(H12/H27 -1)) -> 0.086247154 | I43: =IF(I27=0,"",(I12/I27 -1)) -> 0.13088314 | ... U43: =IF(U27=0,"",(U12/U27 -1)) -> 0.065485849
A44: Νοέμβριος | B44: =IF(B28=0,"",(B13/B28 -1)) -> 0.12420818 | C44: =IF(C28=0,"",(C13/C28 -1)) -> 0.12392392 | D44: =IF(D28=0,"",(D13/D28 -1)) -> 0.50978085 | E44: =IF(E28=0,"",(E13/E28 -1)) -> 1.4981084 | F44: =IF(F28=0,"",(F13/F28 -1)) | G44: =IF(G28=0,"",(G13/G28 -1)) -> 0.4334562 | H44: =IF(H28=0,"",(H13/H28 -1)) -> 0.1558642 | I44: =IF(I28=0,"",(I13/I28 -1)) -> -0.38513286 | ... U44: =IF(U28=0,"",(U13/U28 -1)) -> 0.13777147
A45: Δεκέμβριος | B45: =IF(B29=0,"",(B14/B29 -1)) -> 0.24073612 | C45: =IF(C29=0,"",(C14/C29 -1)) -> 0.098424063 | D45: =IF(D29=0,"",(D14/D29 -1)) -> 363.33333 | E45: =IF(E29=0,"",(E14/E29 -1)) | F45: =IF(F29=0,"",(F14/F29 -1)) | G45: =IF(G29=0,"",(G14/G29 -1)) -> 2.0866357 | H45: =IF(H29=0,"",(H14/H29 -1)) -> 0.021544929 | I45: =IF(I29=0,"",(I14/I29 -1)) | ... U45: =IF(U29=0,"",(U14/U29 -1)) -> 0.21017377
A46: =A15 -> Σύνολο | B46: =IF(B31=0,"",(B15/B31 -1)) -> 0.10071056 | C46: =IF(C31=0,"",(C15/C31 -1)) -> 0.10417831 | D46: =IF(D31=0,"",(D15/D31 -1)) -> 0.022121963 | E46: =IF(E31=0,"",(E15/E31 -1)) -> 0.035932666 | F46: =IF(F31=0,"",(F15/F31 -1)) -> -0.078717876 | G46: =IF(G31=0,"",(G15/G31 -1)) -> 0.063304049 | H46: =IF(H31=0,"",(H15/H31 -1)) -> 0.033052716 | I46: =IF(I31=0,"",(I15/I31 -1)) -> 0.061301852 | ... U46: =IF(U31=0,"",(U15/U31 -1)) -> 0.061049745
A47: Πηγή: Υπηρεσία Πολιτικής Αεροπορίας (ΥΠΑ) και Διεθνής Αερολιμένας Αθηνών (ΔΑΑ) - Επεξεργασία: INSETE Intelligence
A48: Βλ. Παράρτημα

Sheet table 2
A2: Πίνακας 2. Διεθνείς αεροπορικές αφίξεις ανά γεωγραφική ενότητα
A3: Γεωγραφική ενότητα | B3: Περιφερειακά αεροδρόμια | E3: Δωδεκάνησα | H3: Κυκλάδες
B4: ='table 1'!A2 -> 2025 | C4: ='table 1'!A17 -> 2024 | D4: ='table 1'!A33 -> Δ2025/24 | E4: =B4 -> 2025 | F4: =C4 -> 2024 | G4: =D4 -> Δ2025/24 | H4: =B4 -> 2025 | I4: =C4 -> 2024 | J4: =D4 -> Δ2025/24
A5: Ιανουάριος | B5: ='table 1'!U3-'table 1'!B3 -> 125020 | C5: ='table 1'!U18-'table 1'!B18 -> 117702 | D5: =IFERROR(B5/C5-1,"") -> 0.062173965 | E5: =SUM('table 1'!D3:F3) -> 0 | F5: =SUM('table 1'!D18:F18) -> 0 | G5: =IFERROR(E5/F5-1,"") | H5: =SUM('table 1'!M3:N3) -> 0 | I5: =SUM('table 1'!M18:N18) -> 0 | J5: =IFERROR(H5/I5-1,"")
A6: Φεβρουάριος | B6: ='table 1'!U4-'table 1'!B4 -> 128907 | C6: ='table 1'!U19-'table 1'!B19 -> 112802 | D6: =IFERROR(B6/C6-1,"") -> 0.14277229 | E6: =SUM('table 1'!D4:F4) -> 4093 | F6: =SUM('table 1'!D19:F19) -> 3762 | G6: =IFERROR(E6/F6-1,"") -> 0.087985114 | H6: =SUM('table 1'!M4:N4) -> 0 | I6: =SUM('table 1'!M19:N19) -> 0 | J6: =IFERROR(H6/I6-1,"")
A7: Μάρτιος | B7: ='table 1'!U5-'table 1'!B5 -> 191745 | C7: ='table 1'!U20-'table 1'!B20 -> 207134 | D7: =IFERROR(B7/C7-1,"") -> -0.074294901 | E7: =SUM('table 1'!D5:F5) -> 8621 | F7: =SUM('table 1'!D20:F20) -> 15943 | G7: =IFERROR(E7/F7-1,"") -> -0.45926112 | H7: =SUM('table 1'!M5:N5) -> 1031 | I7: =SUM('table 1'!M20:N20) -> 2018 | J7: =IFERROR(H7/I7-1,"") -> -0.48909812
A8: Απρίλιος | B8: ='table 1'!U6-'table 1'!B6 -> 906674 | C8: ='table 1'!U21-'table 1'!B21 -> 819089 | D8: =IFERROR(B8/C8-1,"") -> 0.10692977 | E8: =SUM('table 1'!D6:F6) -> 205130 | F8: =SUM('table 1'!D21:F21) -> 184958 | G8: =IFERROR(E8/F8-1,"") -> 0.1090626 | H8: =SUM('table 1'!M6:N6) -> 32634 | I8: =SUM('table 1'!M21:N21) -> 42798 | J8: =IFERROR(H8/I8-1,"") -> -0.23748773
A9: Μάιος | B9: ='table 1'!U7-'table 1'!B7 -> 2125104 | C9: ='table 1'!U22-'table 1'!B22 -> 2063569 | D9: =IFERROR(B9/C9-1,"") -> 0.029819696 | E9: =SUM('table 1'!D7:F7) -> 568978 | F9: =SUM('table 1'!D22:F22) -> 556684 | G9: =IFERROR(E9/F9-1,"") -> 0.022084342 | H9: =SUM('table 1'!M7:N7) -> 99044 | I9: =SUM('table 1'!M22:N22) -> 111822 | J9: =IFERROR(H9/I9-1,"") -> -0.11427089
A10: Ιούνιος | B10: ='table 1'!U8-'table 1'!B8 -> 3001083 | C10: ='table 1'!U23-'table 1'!B23 -> 2936087 | D10: =IFERROR(B10/C10-1,"") -> 0.022136946 | E10: =SUM('table 1'!D8:F8) -> 747434 | F10: =SUM('table 1'!D23:F23) -> 752978 | G10: =IFERROR(E10/F10-1,"") -> -0.0073627649 | H10: =SUM('table 1'!M8:N8) -> 195086 | I10: =SUM('table 1'!M23:N23) -> 213556 | J10: =IFERROR(H10/I10-1,"") -> -0.086487853
A11: Ιούλιος | B11: ='table 1'!U9-'table 1'!B9 -> 3758411 | C11: ='table 1'!U24-'table 1'!B24 -> 3638690 | D11: =IFERROR(B11/C11-1,"") -> 0.032902226 | E11: =SUM('table 1'!D9:F9) -> 902730 | F11: =SUM('table 1'!D24:F24) -> 889155 | G11: =IFERROR(E11/F11-1,"") -> 0.015267304 | H11: =SUM('table 1'!M9:N9) -> 310152 | I11: =SUM('table 1'!M24:N24) -> 319016 | J11: =IFERROR(H11/I11-1,"") -> -0.02778544
A12: Αύγουστος | B12: ='table 1'!U10-'table 1'!B10 -> 3696475 | C12: ='table 1'!U25-'table 1'!B25 -> 3511674 | D12: =IFERROR(B12/C12-1,"") -> 0.05262476 | E12: =SUM('table 1'!D10:F10) -> 904496 | F12: =SUM('table 1'!D25:F25) -> 870068 | G12: =IFERROR(E12/F12-1,"") -> 0.039569321 | H12: =SUM('table 1'!M10:N10) -> 301728 | I12: =SUM('table 1'!M25:N25) -> 309408 | J12: =IFERROR(H12/I12-1,"") -> -0.024821595
A13: Σεπτέμβριος | B13: ='table 1'!U11-'table 1'!B11 -> 2902931 | C13: ='table 1'!U26-'table 1'!B26 -> 2802014 | D13: =IFERROR(B13/C13-1,"") -> 0.03601588 | E13: =SUM('table 1'!D11:F11) -> 733933 | F13: =SUM('table 1'!D26:F26) -> 715695 | G13: =IFERROR(E13/F13-1,"") -> 0.025482922 | H13: =SUM('table 1'!M11:N11) -> 180120 | I13: =SUM('table 1'!M26:N26) -> 198054 | J13: =IFERROR(H13/I13-1,"") -> -0.090551062
A14: Οκτώβριος | B14: ='table 1'!U12-'table 1'!B12 -> 1673166 | C14: ='table 1'!U27-'table 1'!B27 -> 1563031 | D14: =IFERROR(B14/C14-1,"") -> 0.070462454 | E14: =SUM('table 1'!D12:F12) -> 459721 | F14: =SUM('table 1'!D27:F27) -> 444705 | G14: =IFERROR(E14/F14-1,"") -> 0.033766205 | H14: =SUM('table 1'!M12:N12) -> 67534 | I14: =SUM('table 1'!M27:N27) -> 82315 | J14: =IFERROR(H14/I14-1,"") -> -0.1795663
A15: Νοέμβριος | B15: ='table 1'!U13-'table 1'!B13 -> 190518 | C15: ='table 1'!U28-'table 1'!B28 -> 162085 | D15: =IFERROR(B15/C15-1,"") -> 0.1754203 | E15: =SUM('table 1'!D13:F13) -> 12246 | F15: =SUM('table 1'!D28:F28) -> 7592 | G15: =IFERROR(E15/F15-1,"") -> 0.6130137 | H15: =SUM('table 1'!M13:N13) -> 597 | I15: =SUM('table 1'!M28:N28) -> 579 | J15: =IFERROR(H15/I15-1,"") -> 0.031088083
A16: Δεκέμβριος | B16: ='table 1'!U14-'table 1'!B14 -> 201196 | C16: ='table 1'!U29-'table 1'!B29 -> 175875 | D16: =IFERROR(B16/C16-1,"") -> 0.14397157 | E16: =SUM('table 1'!D14:F14) -> 1093 | F16: =SUM('table 1'!D29:F29) -> 3 | G16: =IFERROR(E16/F16-1,"") -> 363.33333 | H16: =SUM('table 1'!M14:N14) -> 0 | I16: =SUM('table 1'!M29:N29) -> 0 | J16: =IFERROR(H16/I16-1,"")
A17: Tρέχον έτος | B17: =SUM(B5:B16) -> 18901230 | C17: =SUM(C5:C16) -> 18109752 | D17: =IFERROR(B17/C17-1,"") -> 0.043704519 | E17: =SUM(E5:E16) -> 4548475 | F17: =SUM(F5:F16) -> 4441543 | G17: =IFERROR(E17/F17-1,"") -> 0.024075417 | H17: =SUM(H5:H16) -> 1187926 | I17: =SUM(I5:I16) -> 1279566 | J17: =IFERROR(H17/I17-1,"") -> -0.071618033
A19: Γεωγραφική ενότητα | B19: Κρήτη | E19: Ιόνια Νησιά | H19: Πελοπόννησος
B20: =B4 -> 2025 | C20: =C4 -> 2024 | D20: =D4 -> Δ2025/24 | E20: =B4 -> 2025 | F20: =C4 -> 2024 | G20: =D4 -> Δ2025/24 | H20: =B4 -> 2025 | I20: =C4 -> 2024 | J20: =D4 -> Δ2025/24
A21: Ιανουάριος | B21: =SUM('table 1'!G3:H3) -> 3068 | C21: =SUM('table 1'!G18:H18) -> 3083 | D21: =IFERROR(B21/C21-1,"") -> -0.0048653909 | E21: =SUM('table 1'!I3:L3) -> 0 | F21: =SUM('table 1'!I18:L18) -> 0 | G21: =IFERROR(E21/F21-1,"") | H21: =SUM('table 1'!O3:P3) -> 0 | I21: =SUM('table 1'!O18:P18) -> 0 | J21: =IFERROR(H21/I21-1,"")
A22: Φεβρουάριος | B22: =SUM('table 1'!G4:H4) -> 2859 | C22: =SUM('table 1'!G19:H19) -> 3712 | D22: =IFERROR(B22/C22-1,"") -> -0.22979526 | E22: =SUM('table 1'!I4:L4) -> 0 | F22: =SUM('table 1'!I19:L19) -> 0 | G22: =IFERROR(E22/F22-1,"") | H22: =SUM('table 1'!O4:P4) -> 0 | I22: =SUM('table 1'!O19:P19) -> 250 | J22: =IFERROR(H22/I22-1,"") -> -1
A23: Μάρτιος | B23: =SUM('table 1'!G5:H5) -> 16936 | C23: =SUM('table 1'!G20:H20) -> 27277 | D23: =IFERROR(B23/C23-1,"") -> -0.37911061 | E23: =SUM('table 1'!I5:L5) -> 3440 | F23: =SUM('table 1'!I20:L20) -> 8247 | G23: =IFERROR(E23/F23-1,"") -> -0.58287862 | H23: =SUM('table 1'!O5:P5) -> 1902 | I23: =SUM('table 1'!O20:P20) -> 2209 | J23: =IFERROR(H23/I23-1,"") -> -0.13897691
A24: Απρίλιος | B24: =SUM('table 1'!G6:H6) -> 324218 | C24: =SUM('table 1'!G21:H21) -> 278014 | D24: =IFERROR(B24/C24-1,"") -> 0.16619307 | E24: =SUM('table 1'!I6:L6) -> 106998 | F24: =SUM('table 1'!I21:L21) -> 101586 | G24: =IFERROR(E24/F24-1,"") -> 0.053275058 | H24: =SUM('table 1'!O6:P6) -> 8015 | I24: =SUM('table 1'!O21:P21) -> 6732 | J24: =IFERROR(H24/I24-1,"") -> 0.19058229
A25: Μάιος | B25: =SUM('table 1'!G7:H7) -> 666214 | C25: =SUM('table 1'!G22:H22) -> 647498 | D25: =IFERROR(B25/C25-1,"") -> 0.028905109 | E25: =SUM('table 1'!I7:L7) -> 436965 | F25: =SUM('table 1'!I22:L22) -> 410426 | G25: =IFERROR(E25/F25-1,"") -> 0.064662083 | H25: =SUM('table 1'!O7:P7) -> 28433 | I25: =SUM('table 1'!O22:P22) -> 23913 | J25: =IFERROR(H25/I25-1,"") -> 0.18901853
A26: Ιούνιος | B26: =SUM('table 1'!G8:H8) -> 897713 | C26: =SUM('table 1'!G23:H23) -> 865330 | D26: =IFERROR(B26/C26-1,"") -> 0.037422717 | E26: =SUM('table 1'!I8:L8) -> 714949 | F26: =SUM('table 1'!I23:L23) -> 682819 | G26: =IFERROR(E26/F26-1,"") -> 0.04705493 | H26: =SUM('table 1'!O8:P8) -> 42588 | I26: =SUM('table 1'!O23:P23) -> 40683 | J26: =IFERROR(H26/I26-1,"") -> 0.046825455
A27: Ιούλιος | B27: =SUM('table 1'!G9:H9) -> 1096944 | C27: =SUM('table 1'!G24:H24) -> 1061571 | D27: =IFERROR(B27/C27-1,"") -> 0.03332137 | E27: =SUM('table 1'!I9:L9) -> 899423 | F27: =SUM('table 1'!I24:L24) -> 866288 | G27: =IFERROR(E27/F27-1,"") -> 0.038249404 | H27: =SUM('table 1'!O9:P9) -> 53143 | I27: =SUM('table 1'!O24:P24) -> 48580 | J27: =IFERROR(H27/I27-1,"") -> 0.093927542
A28: Αύγουστος | B28: =SUM('table 1'!G10:H10) -> 1085765 | C28: =SUM('table 1'!G25:H25) -> 1018427 | D28: =IFERROR(B28/C28-1,"") -> 0.066119614 | E28: =SUM('table 1'!I10:L10) -> 876431 | F28: =SUM('table 1'!I25:L25) -> 838942 | G28: =IFERROR(E28/F28-1,"") -> 0.044686045 | H28: =SUM('table 1'!O10:P10) -> 51029 | I28: =SUM('table 1'!O25:P25) -> 45210 | J28: =IFERROR(H28/I28-1,"") -> 0.12871046
A29: Σεπτέμβριος | B29: =SUM('table 1'!G11:H11) -> 891444 | C29: =SUM('table 1'!G26:H26) -> 861211 | D29: =IFERROR(B29/C29-1,"") -> 0.035105218 | E29: =SUM('table 1'!I11:L11) -> 660976 | F29: =SUM('table 1'!I26:L26) -> 625239 | G29: =IFERROR(E29/F29-1,"") -> 0.057157343 | H29: =SUM('table 1'!O11:P11) -> 45993 | I29: =SUM('table 1'!O26:P26) -> 40553 | J29: =IFERROR(H29/I29-1,"") -> 0.13414544
A30: Οκτώβριος | B30: =SUM('table 1'!G12:H12) -> 599856 | C30: =SUM('table 1'!G27:H27) -> 543044 | D30: =IFERROR(B30/C30-1,"") -> 0.10461767 | E30: =SUM('table 1'!I12:L12) -> 260544 | F30: =SUM('table 1'!I27:L27) -> 239272 | G30: =IFERROR(E30/F30-1,"") -> 0.088903006 | H30: =SUM('table 1'!O12:P12) -> 21799 | I30: =SUM('table 1'!O27:P27) -> 20787 | J30: =IFERROR(H30/I30-1,"") -> 0.048684274
A31: Νοέμβριος | B31: =SUM('table 1'!G13:H13) -> 28275 | C31: =SUM('table 1'!G28:H28) -> 20227 | D31: =IFERROR(B31/C31-1,"") -> 0.39788402 | E31: =SUM('table 1'!I13:L13) -> 2301 | F31: =SUM('table 1'!I28:L28) -> 3303 | G31: =IFERROR(E31/F31-1,"") -> -0.30336058 | H31: =SUM('table 1'!O13:P13) -> 2289 | I31: =SUM('table 1'!O28:P28) -> 1523 | J31: =IFERROR(H31/I31-1,"") -> 0.50295469
A32: Δεκέμβριος | B32: =SUM('table 1'!G14:H14) -> 13238 | C32: =SUM('table 1'!G29:H29) -> 5562 | D32: =IFERROR(B32/C32-1,"") -> 1.3800791 | E32: =SUM('table 1'!I14:L14) -> 0 | F32: =SUM('table 1'!I29:L29) -> 0 | G32: =IFERROR(E32/F32-1,"") | H32: =SUM('table 1'!O14:P14) -> 0 | I32: =SUM('table 1'!O29:P29) -> 189 | J32: =IFERROR(H32/I32-1,"") -> -1
A33: Tρέχον έτος | B33: =SUM(B21:B32) -> 5626530 | C33: =SUM(C21:C32) -> 5334956 | D33: =IFERROR(B33/C33-1,"") -> 0.054653497 | E33: =SUM(E21:E32) -> 3962027 | F33: =SUM(F21:F32) -> 3776122 | G33: =IFERROR(E33/F33-1,"") -> 0.049231725 | H33: =SUM(H21:H32) -> 255191 | I33: =SUM(I21:I32) -> 230629 | J33: =IFERROR(H33/I33-1,"") -> 0.10650005
A34: Πηγή: Υπηρεσία Πολιτικής Αεροπορίας (ΥΠΑ) και Διεθνής Αερολιμένας Αθηνών (ΔΑΑ) - Επεξεργασία: INSETE Intelligence
A35: Βλ. Παράρτημα

Sheet table 3
A1: Πίνακας 3. Αεροπορικές αφίξεις εσωτερικού στα κυριότερα αεροδρόμια, Δεκέμβριος 2025
A2: 2025 | B2: Αθήνα | C2: Θεσσαλονίκη | D2: Ρόδος | E2: Κως | F2: Kάρπαθος | G2: Ηράκλειο | H2: Χανιά | I2: Κέρκυρα | J2: Ζάκυνθος | K2: Κεφαλονιά | L2: Άκτιο | M2: Μύκονος | N2: Σαντορίνη | O2: Πάρος | P2: Καλαμάτα | Q2: Σάμος | R2: Σκιάθος | S2: Καβάλα | T2: Μυτιλήνη | U2: Σύνολο
A3: Ιανουάριος | B3: 257383 | C3: 85681 | D3: 29870 | E3: 11398 | F3: 1710 | G3: 66489 | H3: 30279 | I3: 4883 | J3: 1843 | K3: 1780 | L3: 70 | M3: 3507 | N3: 9680 | O3: 4265 | P3: 428 | Q3: 6083 | R3: 623 | S3: 673 | T3: 12013 | U3: =SUM(B3:T3) -> 528658
A4: Φεβρουάριος | B4: 255097 | C4: 88070 | D4: 27349 | E4: 9033 | F4: 1671 | G4: 60623 | H4: 29294 | I4: 11357 | J4: 544 | K4: 1456 | L4: 52 | M4: 2157 | N4: 10773 | O4: 2893 | P4: 487 | Q4: 5580 | R4: 550 | S4: 2972 | T4: 11120 | U4: =SUM(B4:T4) -> 521078
A5: Μάρτιος | B5: 300227 | C5: 96723 | D5: 35100 | E5: 11464 | F5: 1851 | G5: 69490 | H5: 35776 | I5: 13249 | J5: 1923 | K5: 1878 | L5: 89 | M5: 6297 | N5: 21338 | O5: 1792 | P5: 709 | Q5: 6091 | R5: 876 | S5: 3300 | T5: 13467 | U5: =SUM(B5:T5) -> 621640
A6: Απρίλιος | B6: 355388 | C6: 99104 | D6: 44108 | E6: 15417 | F6: 2738 | G6: 82579 | H6: 39927 | I6: 16421 | J6: 3724 | K6: 3214 | L6: 191 | M6: 15135 | N6: 44335 | O6: 9831 | P6: 786 | Q6: 7607 | R6: 1821 | S6: 3395 | T6: 17461 | U6: =SUM(B6:T6) -> 763182
A7: Μάιος | B7: 428110 | C7: 101194 | D7: 41369 | E7: 13744 | F7: 2911 | G7: 81321 | H7: 40169 | I7: 18390 | J7: 4571 | K7: 4153 | L7: 140 | M7: 29936 | N7: 64784 | O7: 19840 | P7: 780 | Q7: 8411 | R7: 2399 | S7: 3768 | T7: 18170 | U7: =SUM(B7:T7) -> 884160
A8: Ιούνιος | B8: 503906 | C8: 111055 | D8: 43464 | E8: 17316 | F8: 5073 | G8: 84777 | H8: 46578 | I8: 27127 | J8: 7145 | K8: 9112 | L8: 305 | M8: 38908 | N8: 69257 | O8: 28233 | P8: 1105 | Q8: 10765 | R8: 5466 | S8: 3981 | T8: 19828 | U8: =SUM(B8:T8) -> 1033401
A9: Ιούλιος | B9: 543941 | C9: 121871 | D9: 49124 | E9: 20637 | F9: 6597 | G9: 91466 | H9: 52410 | I9: 29503 | J9: 7526 | K9: 11776 | L9: 461 | M9: 41575 | N9: 67216 | O9: 33263 | P9: 1432 | Q9: 13770 | R9: 6089 | S9: 3789 | T9: 23638 | U9: =SUM(B9:T9) -> 1126084
A10: Αύγουστος | B10: 576934 | C10: 114054 | D10: 52907 | E10: 20558 | F10: 6613 | G10: 89306 | H10: 52256 | I10: 30449 | J10: 7441 | K10: 11276 | L10: 504 | M10: 40507 | N10: 69416 | O10: 31330 | P10: 1869 | Q10: 13208 | R10: 6027 | S10: 4777 | T10: 21416 | U10: =SUM(B10:T10) -> 1150848
A11: Σεπτέμβριος | B11: 528022 | C11: 118774 | D11: 44461 | E11: 16616 | F11: 4252 | G11: 81756 | H11: 46221 | I11: 24680 | J11: 6186 | K11: 8471 | L11: 391 | M11: 33685 | N11: 68903 | O11: 24044 | P11: 1525 | Q11: 9274 | R11: 5019 | S11: 3769 | T11: 16968 | U11: =SUM(B11:T11) -> 1043017
A12: Οκτώβριος | B12: 462848 | C12: 114442 | D12: 39901 | E12: 13171 | F12: 2659 | G12: 75698 | H12: 41920 | I12: 17816 | J12: 3490 | K12: 3407 | L12: 178 | M12: 17329 | N12: 56269 | O12: 10239 | P12: 1038 | Q12: 7247 | R12: 1704 | S12: 3846 | T12: 16322 | U12: =SUM(B12:T12) -> 889524
A13: Νοέμβριος | B13: 356195 | C13: 107960 | D13: 33376 | E13: 11262 | F13: 1707 | G13: 72240 | H13: 35274 | I13: 11878 | J13: 2132 | K13: 1062 | L13: 72 | M13: 5369 | N13: 25563 | O13: 4688 | P13: 504 | Q13: 6014 | R13: 700 | S13: 3833 | T13: 14671 | U13: =SUM(B13:T13) -> 694500
A14: Δεκέμβριος | B14: 323420 | C14: 114052 | D14: 31988 | E14: 11200 | F14: 1406 | G14: 75319 | H14: 32858 | I14: 13526 | J14: 2131 | K14: 1887 | L14: 122 | M14: 3067 | N14: 15916 | O14: 3439 | P14: 535 | Q14: 5780 | R14: 569 | S14: 4394 | T14: 14650 | U14: =SUM(B14:T14) -> 656259
A15: Σύνολο | B15: =SUM(B3:B14) -> 4891471 | C15: =SUM(C3:C14) -> 1272980 | D15: =SUM(D3:D14) -> 473017 | E15: =SUM(E3:E14) -> 171816 | F15: =SUM(F3:F14) -> 39188 | G15: =SUM(G3:G14) -> 931064 | H15: =SUM(H3:H14) -> 482962 | I15: =SUM(I3:I14) -> 219279 | ... U15: =SUM(U3:U14) -> 9912351
A17: 2024 | B17: =B2 -> Αθήνα | C17: =C2 -> Θεσσαλονίκη | D17: =D2 -> Ρόδος | E17: =E2 -> Κως | F17: =F2 -> Kάρπαθος | G17: =G2 -> Ηράκλειο | H17: =H2 -> Χανιά | I17: =I2 -> Κέρκυρα | ... U17: =U2 -> Σύνολο
A18: Ιανουάριος | B18: 244346 | C18: 77714 | D18: 32000 | E18: 10045 | F18: 1492 | G18: 57249 | H18: 28355 | I18: 6563 | J18: 1529 | K18: 1780 | L18: 61 | M18: 4033 | N18: 14571 | O18: 3850 | P18: 573 | Q18: 5896 | R18: 647 | S18: 2170 | T18: 11421 | U18: =SUM(B18:T18) -> 504295
A19: Φεβρουάριος | B19: 249853 | C19: 85325 | D19: 26407 | E19: 9128 | F19: 1573 | G19: 45858 | H19: 30770 | I19: 9837 | J19: 1516 | K19: 1592 | L19: 99 | M19: 4552 | N19: 15522 | O19: 4025 | P19: 677 | Q19: 5377 | R19: 645 | S19: 2162 | T19: 11166 | U19: =SUM(B19:T19) -> 506084
A20: Μάρτιος | B20: 293669 | C20: 91443 | D20: 32795 | E20: 10661 | F20: 1862 | G20: 65511 | H20: 34410 | I20: 12639 | J20: 1792 | K20: 1861 | L20: 83 | M20: 7196 | N20: 27636 | O20: 5039 | P20: 666 | Q20: 6112 | R20: 891 | S20: 2430 | T20: 13158 | U20: =SUM(B20:T20) -> 609854
A21: Απρίλιος | B21: 328436 | C21: 94458 | D21: 36404 | E21: 13479 | F21: 2394 | G21: 69628 | H21: 33541 | I21: 13979 | J21: 3154 | K21: 2990 | L21: 152 | M21: 13879 | N21: 60873 | O21: 3313 | P21: 847 | Q21: 7188 | R21: 1533 | S21: 2640 | T21: 14997 | U21: =SUM(B21:T21) -> 703885
A22: Μάιος | B22: 445501 | C22: 102454 | D22: 39671 | E22: 15296 | F22: 3075 | G22: 78243 | H22: 37847 | I22: 18181 | J22: 5009 | K22: 4441 | L22: 258 | M22: 32435 | N22: 81921 | O22: 19337 | P22: 1127 | Q22: 8504 | R22: 2305 | S22: 2593 | T22: 17378 | U22: =SUM(B22:T22) -> 915576
A23: Ιούνιος | B23: 492103 | C23: 107310 | D23: 41313 | E23: 14864 | F23: 4612 | G23: 76493 | H23: 43201 | I23: 25484 | J23: 7259 | K23: 8645 | L23: 300 | M23: 43822 | N23: 86617 | O23: 26615 | P23: 1745 | Q23: 10235 | R23: 4474 | S23: 2924 | T23: 17810 | U23: =SUM(B23:T23) -> 1015826
A24: Ιούλιος | B24: 538115 | C24: 122222 | D24: 47036 | E24: 19090 | F24: 6617 | G24: 83111 | H24: 46759 | I24: 27584 | J24: 8775 | K24: 10862 | L24: 422 | M24: 45108 | N24: 80778 | O24: 31972 | P24: 2176 | Q24: 12522 | R24: 5525 | S24: 2463 | T24: 22900 | U24: =SUM(B24:T24) -> 1114037
A25: Αύγουστος | B25: 564813 | C25: 111278 | D25: 49486 | E25: 19175 | F25: 6828 | G25: 84045 | H25: 45598 | I25: 27412 | J25: 8649 | K25: 10391 | L25: 448 | M25: 44404 | N25: 79749 | O25: 30116 | P25: 2256 | Q25: 12027 | R25: 5551 | S25: 2216 | T25: 20341 | U25: =SUM(B25:T25) -> 1124783
A26: Σεπτέμβριος | B26: 517461 | C26: 112814 | D26: 41122 | E26: 14009 | F26: 3998 | G26: 74670 | H26: 41388 | I26: 23039 | J26: 6799 | K26: 6944 | L26: 321 | M26: 37286 | N26: 80592 | O26: 23485 | P26: 1327 | Q26: 8495 | R26: 4161 | S26: 2692 | T26: 16325 | U26: =SUM(B26:T26) -> 1016928
A27: Οκτώβριος | B27: 472621 | C27: 111259 | D27: 40091 | E27: 12798 | F27: 2502 | G27: 75590 | H27: 38020 | I27: 16522 | J27: 3790 | K27: 3208 | L27: 165 | M27: 20578 | N27: 67764 | O27: 12339 | P27: 756 | Q27: 7250 | R27: 1556 | S27: 2880 | T27: 15941 | U27: =SUM(B27:T27) -> 905630
A28: Νοέμβριος | B28: 342125 | C28: 102627 | D28: 32057 | E28: 10234 | F28: 1590 | G28: 66177 | H28: 29845 | I28: 7269 | J28: 1755 | K28: 1437 | L28: 83 | M28: 6026 | N28: 28217 | O28: 5258 | P28: 673 | Q28: 1822 | R28: 660 | S28: 3070 | T28: 13122 | U28: =SUM(B28:T28) -> 654047
A29: Δεκέμβριος | B29: 308007 | C29: 100002 | D29: 30832 | E29: 10670 | F29: 1452 | G29: 69544 | H29: 32508 | I29: 9527 | J29: 1842 | K29: 1066 | L29: 175 | M29: 3409 | N29: 16600 | O29: 3449 | P29: 540 | Q29: 5860 | R29: 567 | S29: 3144 | T29: 13027 | U29: =SUM(B29:T29) -> 612221
A30: Σύνολο | B30: =SUM(B18:B29) -> 4797050 | C30: =SUM(C18:C29) -> 1218906 | D30: =SUM(D18:D29) -> 449214 | E30: =SUM(E18:E29) -> 159449 | F30: =SUM(F18:F29) -> 37995 | G30: =SUM(G18:G29) -> 846119 | H30: =SUM(H18:H29) -> 442242 | I30: =SUM(I18:I29) -> 198036 | ... U30: =SUM(U18:U29) -> 9683166
A31: =A15 -> Σύνολο | B31: =SUM(B18:B29) -> 4797050 | C31: =SUM(C18:C29) -> 1218906 | D31: =SUM(D18:D29) -> 449214 | E31: =SUM(E18:E29) -> 159449 | F31: =SUM(F18:F29) -> 37995 | G31: =SUM(G18:G29) -> 846119 | H31: =SUM(H18:H29) -> 442242 | I31: =SUM(I18:I29) -> 198036 | ... U31: =SUM(U18:U29) -> 9683166
A33: Δ2025/24 | B33: =B2 -> Αθήνα | C33: =C2 -> Θεσσαλονίκη | D33: =D2 -> Ρόδος | E33: =E2 -> Κως | F33: =F2 -> Kάρπαθος | G33: =G2 -> Ηράκλειο | H33: =H2 -> Χανιά | I33: =I2 -> Κέρκυρα | ... U33: =U2 -> Σύνολο
A34: Ιανουάριος | B34: =IF(B18=0,"",(B3/B18 -1)) -> 0.053354669 | C34: =IF(C18=0,"",(C3/C18 -1)) -> 0.10251692 | D34: =IF(D18=0,"",(D3/D18 -1)) -> -0.0665625 | E34: =IF(E18=0,"",(E3/E18 -1)) -> 0.13469388 | F34: =IF(F18=0,"",(F3/F18 -1)) -> 0.1461126 | G34: =IF(G18=0,"",(G3/G18 -1)) -> 0.1614002 | H34: =IF(H18=0,"",(H3/H18 -1)) -> 0.067853994 | I34: =IF(I18=0,"",(I3/I18 -1)) -> -0.2559805 | ... U34: =IF(U18=0,"",(U3/U18 -1)) -> 0.048311008
A35: Φεβρουάριος | B35: =IF(B19=0,"",(B4/B19 -1)) -> 0.020988341 | C35: =IF(C19=0,"",(C4/C19 -1)) -> 0.03217111 | D35: =IF(D19=0,"",(D4/D19 -1)) -> 0.03567236 | E35: =IF(E19=0,"",(E4/E19 -1)) -> -0.010407537 | F35: =IF(F19=0,"",(F4/F19 -1)) -> 0.062301335 | G35: =IF(G19=0,"",(G4/G19 -1)) -> 0.32197217 | H35: =IF(H19=0,"",(H4/H19 -1)) -> -0.047968801 | I35: =IF(I19=0,"",(I4/I19 -1)) -> 0.15451865 | ... U35: =IF(U19=0,"",(U4/U19 -1)) -> 0.029627493
A36: Μάρτιος | B36: =IF(B20=0,"",(B5/B20 -1)) -> 0.022331264 | C36: =IF(C20=0,"",(C5/C20 -1)) -> 0.057740888 | D36: =IF(D20=0,"",(D5/D20 -1)) -> 0.070285104 | E36: =IF(E20=0,"",(E5/E20 -1)) -> 0.075321264 | F36: =IF(F20=0,"",(F5/F20 -1)) -> -0.0059076262 | G36: =IF(G20=0,"",(G5/G20 -1)) -> 0.060737891 | H36: =IF(H20=0,"",(H5/H20 -1)) -> 0.039697762 | I36: =IF(I20=0,"",(I5/I20 -1)) -> 0.048263312 | ... U36: =IF(U20=0,"",(U5/U20 -1)) -> 0.019325937
A37: Απρίλιος | B37: =IF(B21=0,"",(B6/B21 -1)) -> 0.08206165 | C37: =IF(C21=0,"",(C6/C21 -1)) -> 0.049185882 | D37: =IF(D21=0,"",(D6/D21 -1)) -> 0.2116251 | E37: =IF(E21=0,"",(E6/E21 -1)) -> 0.14377921 | F37: =IF(F21=0,"",(F6/F21 -1)) -> 0.14369256 | G37: =IF(G21=0,"",(G6/G21 -1)) -> 0.18600276 | H37: =IF(H21=0,"",(H6/H21 -1)) -> 0.19039385 | I37: =IF(I21=0,"",(I6/I21 -1)) -> 0.17469061 | ... U37: =IF(U21=0,"",(U6/U21 -1)) -> 0.084242454
A38: Μάιος | B38: =IF(B22=0,"",(B7/B22 -1)) -> -0.039036949 | C38: =IF(C22=0,"",(C7/C22 -1)) -> -0.012298202 | D38: =IF(D22=0,"",(D7/D22 -1)) -> 0.042802047 | E38: =IF(E22=0,"",(E7/E22 -1)) -> -0.10146444 | F38: =IF(F22=0,"",(F7/F22 -1)) -> -0.053333333 | G38: =IF(G22=0,"",(G7/G22 -1)) -> 0.039338982 | H38: =IF(H22=0,"",(H7/H22 -1)) -> 0.061352287 | I38: =IF(I22=0,"",(I7/I22 -1)) -> 0.011495517 | ... U38: =IF(U22=0,"",(U7/U22 -1)) -> -0.034312826
A39: Ιούνιος | B39: =IF(B23=0,"",(B8/B23 -1)) -> 0.023984816 | C39: =IF(C23=0,"",(C8/C23 -1)) -> 0.034898891 | D39: =IF(D23=0,"",(D8/D23 -1)) -> 0.052065936 | E39: =IF(E23=0,"",(E8/E23 -1)) -> 0.16496233 | F39: =IF(F23=0,"",(F8/F23 -1)) -> 0.099956635 | G39: =IF(G23=0,"",(G8/G23 -1)) -> 0.10829749 | H39: =IF(H23=0,"",(H8/H23 -1)) -> 0.078169487 | I39: =IF(I23=0,"",(I8/I23 -1)) -> 0.064471825 | ... U39: =IF(U23=0,"",(U8/U23 -1)) -> 0.017301191
A40: Ιούλιος | B40: =IF(B24=0,"",(B9/B24 -1)) -> 0.010826682 | C40: =IF(C24=0,"",(C9/C24 -1)) -> -0.0028718234 | D40: =IF(D24=0,"",(D9/D24 -1)) -> 0.04439153 | E40: =IF(E24=0,"",(E9/E24 -1)) -> 0.081037192 | F40: =IF(F24=0,"",(F9/F24 -1)) -> -0.0030225178 | G40: =IF(G24=0,"",(G9/G24 -1)) -> 0.10052821 | H40: =IF(H24=0,"",(H9/H24 -1)) -> 0.12085374 | I40: =IF(I24=0,"",(I9/I24 -1)) -> 0.069569316 | ... U40: =IF(U24=0,"",(U9/U24 -1)) -> 0.010813824
A41: Αύγουστος | B41: =IF(B25=0,"",(B10/B25 -1)) -> 0.0214602 | C41: =IF(C25=0,"",(C10/C25 -1)) -> 0.02494653 | D41: =IF(D25=0,"",(D10/D25 -1)) -> 0.069130663 | E41: =IF(E25=0,"",(E10/E25 -1)) -> 0.072125163 | F41: =IF(F25=0,"",(F10/F25 -1)) -> -0.031487991 | G41: =IF(G25=0,"",(G10/G25 -1)) -> 0.062597418 | H41: =IF(H25=0,"",(H10/H25 -1)) -> 0.14601518 | I41: =IF(I25=0,"",(I10/I25 -1)) -> 0.11079089 | ... U41: =IF(U25=0,"",(U10/U25 -1)) -> 0.023173359
A42: Σεπτέμβριος | B42: =IF(B26=0,"",(B11/B26 -1)) -> 0.020409268 | C42: =IF(C26=0,"",(C11/C26 -1)) -> 0.052830322 | D42: =IF(D26=0,"",(D11/D26 -1)) -> 0.081197413 | E42: =IF(E26=0,"",(E11/E26 -1)) -> 0.18609465 | F42: =IF(F26=0,"",(F11/F26 -1)) -> 0.063531766 | G42: =IF(G26=0,"",(G11/G26 -1)) -> 0.094897549 | H42: =IF(H26=0,"",(H11/H26 -1)) -> 0.11677298 | I42: =IF(I26=0,"",(I11/I26 -1)) -> 0.07122705 | ... U42: =IF(U26=0,"",(U11/U26 -1)) -> 0.025654717
A43: Οκτώβριος | B43: =IF(B27=0,"",(B12/B27 -1)) -> -0.020678302 | C43: =IF(C27=0,"",(C12/C27 -1)) -> 0.028608922 | D43: =IF(D27=0,"",(D12/D27 -1)) -> -0.0047392183 | E43: =IF(E27=0,"",(E12/E27 -1)) -> 0.029145179 | F43: =IF(F27=0,"",(F12/F27 -1)) -> 0.0627498 | G43: =IF(G27=0,"",(G12/G27 -1)) -> 0.0014287604 | H43: =IF(H27=0,"",(H12/H27 -1)) -> 0.10257759 | I43: =IF(I27=0,"",(I12/I27 -1)) -> 0.078319816 | ... U43: =IF(U27=0,"",(U12/U27 -1)) -> -0.017784305
A44: Νοέμβριος | B44: =IF(B28=0,"",(B13/B28 -1)) -> 0.04112532 | C44: =IF(C28=0,"",(C13/C28 -1)) -> 0.051964883 | D44: =IF(D28=0,"",(D13/D28 -1)) -> 0.04114546 | E44: =IF(E28=0,"",(E13/E28 -1)) -> 0.10044948 | F44: =IF(F28=0,"",(F13/F28 -1)) -> 0.073584906 | G44: =IF(G28=0,"",(G13/G28 -1)) -> 0.091617934 | H44: =IF(H28=0,"",(H13/H28 -1)) -> 0.18190652 | I44: =IF(I28=0,"",(I13/I28 -1)) -> 0.63406246 | ... U44: =IF(U28=0,"",(U13/U28 -1)) -> 0.061850295
A45: Δεκέμβριος | B45: =IF(B29=0,"",(B14/B29 -1)) -> 0.05004107 | C45: =IF(C29=0,"",(C14/C29 -1)) -> 0.14049719 | D45: =IF(D29=0,"",(D14/D29 -1)) -> 0.037493513 | E45: =IF(E29=0,"",(E14/E29 -1)) -> 0.049671978 | F45: =IF(F29=0,"",(F14/F29 -1)) -> -0.031680441 | G45: =IF(G29=0,"",(G14/G29 -1)) -> 0.083040952 | H45: =IF(H29=0,"",(H14/H29 -1)) -> 0.010766581 | I45: =IF(I29=0,"",(I14/I29 -1)) -> 0.41975438 | ... U45: =IF(U29=0,"",(U14/U29 -1)) -> 0.071931541
A46: =A15 -> Σύνολο | B46: =IF(B31=0,"",(B15/B31 -1)) -> 0.019683139 | C46: =IF(C31=0,"",(C15/C31 -1)) -> 0.044362732 | D46: =IF(D31=0,"",(D15/D31 -1)) -> 0.052988108 | E46: =IF(E31=0,"",(E15/E31 -1)) -> 0.07756085 | F46: =IF(F31=0,"",(F15/F31 -1)) -> 0.031398868 | G46: =IF(G31=0,"",(G15/G31 -1)) -> 0.10039368 | H46: =IF(H31=0,"",(H15/H31 -1)) -> 0.092076284 | I46: =IF(I31=0,"",(I15/I31 -1)) -> 0.10726838 | ... U46: =IF(U31=0,"",(U15/U31 -1)) -> 0.023668395
A47: Πηγή: Υπηρεσία Πολιτικής Αεροπορίας (ΥΠΑ) και Διεθνής Αερολιμένας Αθηνών (ΔΑΑ) - Επεξεργασία: INSETE Intelligence
A48: Βλ. Παράρτημα

Sheet table 4
A2: Πίνακας 4. Αεροπορικές αφίξεις εσωτερικού ανά γεωγραφική ενότητα
A3: Γεωγραφική ενότητα | B3: Περιφερειακά αεροδρόμια | E3: Δωδεκάνησα | H3: Κυκλάδες
B4: ='table 3'!A2 -> 2025 | C4: ='table 3'!A17 -> 2024 | D4: ='table 3'!A33 -> Δ2025/24 | E4: =B4 -> 2025 | F4: =C4 -> 2024 | G4: =D4 -> Δ2025/24 | H4: =B4 -> 2025 | I4: =C4 -> 2024 | J4: =D4 -> Δ2025/24
A5: Ιανουάριος | B5: ='table 3'!U3-'table 3'!B3 -> 271275 | C5: ='table 3'!U18-'table 3'!B18 -> 259949 | D5: =IFERROR(B5/C5-1,"") -> 0.043570085 | E5: =SUM('table 3'!D3:F3) -> 42978 | F5: =SUM('table 3'!D18:F18) -> 43537 | G5: =IFERROR(E5/F5-1,"") -> -0.012839654 | H5: =SUM('table 3'!M3:O3) -> 17452 | I5: =SUM('table 3'!M18:O18) -> 22454 | J5: =IFERROR(H5/I5-1,"") -> -0.22276654
A6: Φεβρουάριος | B6: ='table 3'!U4-'table 3'!B4 -> 265981 | C6: ='table 3'!U19-'table 3'!B19 -> 256231 | D6: =IFERROR(B6/C6-1,"") -> 0.038051602 | E6: =SUM('table 3'!D4:F4) -> 38053 | F6: =SUM('table 3'!D19:F19) -> 37108 | G6: =IFERROR(E6/F6-1,"") -> 0.025466207 | H6: =SUM('table 3'!M4:O4) -> 15823 | I6: =SUM('table 3'!M19:O19) -> 24099 | J6: =IFERROR(H6/I6-1,"") -> -0.34341674
A7: Μάρτιος | B7: ='table 3'!U5-'table 3'!B5 -> 321413 | C7: ='table 3'!U20-'table 3'!B20 -> 316185 | D7: =IFERROR(B7/C7-1,"") -> 0.016534624 | E7: =SUM('table 3'!D5:F5) -> 48415 | F7: =SUM('table 3'!D20:F20) -> 45318 | G7: =IFERROR(E7/F7-1,"") -> 0.068339291 | H7: =SUM('table 3'!M5:O5) -> 29427 | I7: =SUM('table 3'!M20:O20) -> 39871 | J7: =IFERROR(H7/I7-1,"") -> -0.26194477
A8: Απρίλιος | B8: ='table 3'!U6-'table 3'!B6 -> 407794 | C8: ='table 3'!U21-'table 3'!B21 -> 375449 | D8: =IFERROR(B8/C8-1,"") -> 0.086150183 | E8: =SUM('table 3'!D6:F6) -> 62263 | F8: =SUM('table 3'!D21:F21) -> 52277 | G8: =IFERROR(E8/F8-1,"") -> 0.19102091 | H8: =SUM('table 3'!M6:O6) -> 69301 | I8: =SUM('table 3'!M21:O21) -> 78065 | J8: =IFERROR(H8/I8-1,"") -> -0.11226542
A9: Μάιος | B9: ='table 3'!U7-'table 3'!B7 -> 456050 | C9: ='table 3'!U22-'table 3'!B22 -> 470075 | D9: =IFERROR(B9/C9-1,"") -> -0.029835665 | E9: =SUM('table 3'!D7:F7) -> 58024 | F9: =SUM('table 3'!D22:F22) -> 58042 | G9: =IFERROR(E9/F9-1,"") -> -0.00031012026 | H9: =SUM('table 3'!M7:O7) -> 114560 | I9: =SUM('table 3'!M22:O22) -> 133693 | J9: =IFERROR(H9/I9-1,"") -> -0.14311146
A10: Ιούνιος | B10: ='table 3'!U8-'table 3'!B8 -> 529495 | C10: ='table 3'!U23-'table 3'!B23 -> 523723 | D10: =IFERROR(B10/C10-1,"") -> 0.011021093 | E10: =SUM('table 3'!D8:F8) -> 65853 | F10: =SUM('table 3'!D23:F23) -> 60789 | G10: =IFERROR(E10/F10-1,"") -> 0.083304545 | H10: =SUM('table 3'!M8:O8) -> 136398 | I10: =SUM('table 3'!M23:O23) -> 157054 | J10: =IFERROR(H10/I10-1,"") -> -0.13152164
A11: Ιούλιος | B11: ='table 3'!U9-'table 3'!B9 -> 582143 | C11: ='table 3'!U24-'table 3'!B24 -> 575922 | D11: =IFERROR(B11/C11-1,"") -> 0.01080181 | E11: =SUM('table 3'!D9:F9) -> 76358 | F11: =SUM('table 3'!D24:F24) -> 72743 | G11: =IFERROR(E11/F11-1,"") -> 0.049695503 | H11: =SUM('table 3'!M9:O9) -> 142054 | I11: =SUM('table 3'!M24:O24) -> 157858 | J11: =IFERROR(H11/I11-1,"") -> -0.10011529
A12: Αύγουστος | B12: ='table 3'!U10-'table 3'!B10 -> 573914 | C12: ='table 3'!U25-'table 3'!B25 -> 559970 | D12: =IFERROR(B12/C12-1,"") -> 0.024901334 | E12: =SUM('table 3'!D10:F10) -> 80078 | F12: =SUM('table 3'!D25:F25) -> 75489 | G12: =IFERROR(E12/F12-1,"") -> 0.060790314 | H12: =SUM('table 3'!M10:O10) -> 141253 | I12: =SUM('table 3'!M25:O25) -> 154269 | J12: =IFERROR(H12/I12-1,"") -> -0.084372103
A13: Σεπτέμβριος | B13: ='table 3'!U11-'table 3'!B11 -> 514995 | C13: ='table 3'!U26-'table 3'!B26 -> 499467 | D13: =IFERROR(B13/C13-1,"") -> 0.031089141 | E13: =SUM('table 3'!D11:F11) -> 65329 | F13: =SUM('table 3'!D26:F26) -> 59129 | G13: =IFERROR(E13/F13-1,"") -> 0.10485549 | H13: =SUM('table 3'!M11:O11) -> 126632 | I13: =SUM('table 3'!M26:O26) -> 141363 | J13: =IFERROR(H13/I13-1,"") -> -0.1042069
A14: Οκτώβριος | B14: ='table 3'!U12-'table 3'!B12 -> 426676 | C14: ='table 3'!U27-'table 3'!B27 -> 433009 | D14: =IFERROR(B14/C14-1,"") -> -0.014625562 | E14: =SUM('table 3'!D12:F12) -> 55731 | F14: =SUM('table 3'!D27:F27) -> 55391 | G14: =IFERROR(E14/F14-1,"") -> 0.0061381813 | H14: =SUM('table 3'!M12:O12) -> 83837 | I14: =SUM('table 3'!M27:O27) -> 100681 | J14: =IFERROR(H14/I14-1,"") -> -0.16730068
A15: Νοέμβριος | B15: ='table 3'!U13-'table 3'!B13 -> 338305 | C15: ='table 3'!U28-'table 3'!B28 -> 311922 | D15: =IFERROR(B15/C15-1,"") -> 0.084582043 | E15: =SUM('table 3'!D13:F13) -> 46345 | F15: =SUM('table 3'!D28:F28) -> 43881 | G15: =IFERROR(E15/F15-1,"") -> 0.056151865 | H15: =SUM('table 3'!M13:O13) -> 35620 | I15: =SUM('table 3'!M28:O28) -> 39501 | J15: =IFERROR(H15/I15-1,"") -> -0.098250677
A16: Δεκέμβριος | B16: ='table 3'!U14-'table 3'!B14 -> 332839 | C16: ='table 3'!U29-'table 3'!B29 -> 304214 | D16: =IFERROR(B16/C16-1,"") -> 0.094094946 | E16: =SUM('table 3'!D14:F14) -> 44594 | F16: =SUM('table 3'!D29:F29) -> 42954 | G16: =IFERROR(E16/F16-1,"") -> 0.038180379 | H16: =SUM('table 3'!M14:O14) -> 22422 | I16: =SUM('table 3'!M29:O29) -> 23458 | J16: =IFERROR(H16/I16-1,"") -> -0.044164038
A17: Tρέχον έτος | B17: =SUM(B5:B16) -> 5020880 | C17: =SUM(C5:C16) -> 4886116 | D17: =IFERROR(B17/C17-1,"") -> 0.027581007 | E17: =SUM(E5:E16) -> 684021 | F17: =SUM(F5:F16) -> 646658 | G17: =IFERROR(E17/F17-1,"") -> 0.057778609 | H17: =SUM(H5:H16) -> 934779 | I17: =SUM(I5:I16) -> 1072366 | J17: =IFERROR(H17/I17-1,"") -> -0.12830228
A19: Γεωγραφική ενότητα | B19: Κρήτη | E19: Ιόνια Νησιά
B20: =B4 -> 2025 | C20: =C4 -> 2024 | D20: =D4 -> Δ2025/24 | E20: =B4 -> 2025 | F20: =C4 -> 2024 | G20: =D4 -> Δ2025/24
A21: Ιανουάριος | B21: =SUM('table 3'!G3:H3) -> 96768 | C21: =SUM('table 3'!G18:H18) -> 85604 | D21: =IFERROR(B21/C21-1,"") -> 0.13041447 | E21: =SUM('table 3'!I3:L3) -> 8576 | F21: =SUM('table 3'!I18:L18) -> 9933 | G21: =IFERROR(E21/F21-1,"") -> -0.13661532
A22: Φεβρουάριος | B22: =SUM('table 3'!G4:H4) -> 89917 | C22: =SUM('table 3'!G19:H19) -> 76628 | D22: =IFERROR(B22/C22-1,"") -> 0.17342225 | E22: =SUM('table 3'!I4:L4) -> 13409 | F22: =SUM('table 3'!I19:L19) -> 13044 | G22: =IFERROR(E22/F22-1,"") -> 0.027982214
A23: Μάρτιος | B23: =SUM('table 3'!G5:H5) -> 105266 | C23: =SUM('table 3'!G20:H20) -> 99921 | D23: =IFERROR(B23/C23-1,"") -> 0.053492259 | E23: =SUM('table 3'!I5:L5) -> 17139 | F23: =SUM('table 3'!I20:L20) -> 16375 | G23: =IFERROR(E23/F23-1,"") -> 0.046656489
A24: Απρίλιος | B24: =SUM('table 3'!G6:H6) -> 122506 | C24: =SUM('table 3'!G21:H21) -> 103169 | D24: =IFERROR(B24/C24-1,"") -> 0.18743033 | E24: =SUM('table 3'!I6:L6) -> 23550 | F24: =SUM('table 3'!I21:L21) -> 20275 | G24: =IFERROR(E24/F24-1,"") -> 0.16152898
A25: Μάιος | B25: =SUM('table 3'!G7:H7) -> 121490 | C25: =SUM('table 3'!G22:H22) -> 116090 | D25: =IFERROR(B25/C25-1,"") -> 0.046515634 | E25: =SUM('table 3'!I7:L7) -> 27254 | F25: =SUM('table 3'!I22:L22) -> 27889 | G25: =IFERROR(E25/F25-1,"") -> -0.022768834
A26: Ιούνιος | B26: =SUM('table 3'!G8:H8) -> 131355 | C26: =SUM('table 3'!G23:H23) -> 119694 | D26: =IFERROR(B26/C26-1,"") -> 0.09742343 | E26: =SUM('table 3'!I8:L8) -> 43689 | F26: =SUM('table 3'!I23:L23) -> 41688 | G26: =IFERROR(E26/F26-1,"") -> 0.047999424
A27: Ιούλιος | B27: =SUM('table 3'!G9:H9) -> 143876 | C27: =SUM('table 3'!G24:H24) -> 129870 | D27: =IFERROR(B27/C27-1,"") -> 0.10784631 | E27: =SUM('table 3'!I9:L9) -> 49266 | F27: =SUM('table 3'!I24:L24) -> 47643 | G27: =IFERROR(E27/F27-1,"") -> 0.034065865
A28: Αύγουστος | B28: =SUM('table 3'!G10:H10) -> 141562 | C28: =SUM('table 3'!G25:H25) -> 129643 | D28: =IFERROR(B28/C28-1,"") -> 0.091937089 | E28: =SUM('table 3'!I10:L10) -> 49670 | F28: =SUM('table 3'!I25:L25) -> 46900 | G28: =IFERROR(E28/F28-1,"") -> 0.059061834
A29: Σεπτέμβριος | B29: =SUM('table 3'!G11:H11) -> 127977 | C29: =SUM('table 3'!G26:H26) -> 116058 | D29: =IFERROR(B29/C29-1,"") -> 0.10269865 | E29: =SUM('table 3'!I11:L11) -> 39728 | F29: =SUM('table 3'!I26:L26) -> 37103 | G29: =IFERROR(E29/F29-1,"") -> 0.070748996
A30: Οκτώβριος | B30: =SUM('table 3'!G12:H12) -> 117618 | C30: =SUM('table 3'!G27:H27) -> 113610 | D30: =IFERROR(B30/C30-1,"") -> 0.035278585 | E30: =SUM('table 3'!I12:L12) -> 24891 | F30: =SUM('table 3'!I27:L27) -> 23685 | G30: =IFERROR(E30/F30-1,"") -> 0.050918303
A31: Νοέμβριος | B31: =SUM('table 3'!G13:H13) -> 107514 | C31: =SUM('table 3'!G28:H28) -> 96022 | D31: =IFERROR(B31/C31-1,"") -> 0.11968091 | E31: =SUM('table 3'!I13:L13) -> 15144 | F31: =SUM('table 3'!I28:L28) -> 10544 | G31: =IFERROR(E31/F31-1,"") -> 0.43626707
A32: Δεκέμβριος | B32: =SUM('table 3'!G14:H14) -> 108177 | C32: =SUM('table 3'!G29:H29) -> 102052 | D32: =IFERROR(B32/C32-1,"") -> 0.060018422 | E32: =SUM('table 3'!I14:L14) -> 17666 | F32: =SUM('table 3'!I29:L29) -> 12610 | G32: =IFERROR(E32/F32-1,"") -> 0.40095163
A33: Tρέχον έτος | B33: =SUM(B21:B32) -> 1414026 | C33: =SUM(C21:C32) -> 1288361 | D33: =IFERROR(B33/C33-1,"") -> 0.097538656 | E33: =SUM(E21:E32) -> 329982 | F33: =SUM(F21:F32) -> 307689 | G33: =IFERROR(E33/F33-1,"") -> 0.072453029 | H33: =SUM(H21:H32) -> 0 | I33: =SUM(I21:I32) -> 0
A34: Πηγή: Υπηρεσία Πολιτικής Αεροπορίας (ΥΠΑ) και Διεθνής Αερολιμένας Αθηνών (ΔΑΑ) - Επεξεργασία: INSETE Intelligence
A35: Βλ. Παράρτημα

Sheet table 5
A1: Πίνακας 5. Αφίξεις σε χιλιάδες
A2: 2025 | B2: Χώρες ΕΕ-27 | C2: Χώρες Ζώνης Ευρώ | D2: εκ των οποίων | H2: Χώρες εκτός Ζώνης Ευρώ | I2: Λοιπές Χώρες | J2: εκ των οποίων | N2: Σύνολο Έρ. Συνόρων
D3: Γαλλία | E3: Γερμανία | F3: Ιταλία | G3: Λοιπές | J3: Ην. Βασίλειο | K3: ΗΠΑ | L3: Ρωσία | M3: Λοιπές
A4: Ιανουάριος | B4: 378.589 | C4: 318.829 | D4: 23.332 | E4: 95.012 | F4: 45.767 | G4: 154.718 | H4: 59.76 | I4: 442.988 | J4: 76.213 | K4: 48.461 | L4: 0.617 | M4: 317.697 | N4: 821.577
A5: Φεβρουάριος | B5: 363.316 | C5: 263.654 | D5: 15.395 | E5: 66.164 | F5: 35.038 | G5: 147.057 | H5: 99.662 | I5: 352.603 | J5: 28.573 | K5: 60.302 | L5: 0 | M5: 263.728 | N5: 715.919
A6: Μάρτιος | B6: 437.159 | C6: 324.297 | D6: 21.879 | E6: 83.278 | F6: 46.819 | G6: 172.321 | H6: 112.862 | I6: 484.353 | J6: 62.685 | K6: 79.913 | L6: 1.256 | M6: 340.499 | N6: 921.511
A7: Απρίλιος | B7: 861.997 | C7: 706.505 | D7: 104.027 | E7: 231.062 | F7: 70.691 | G7: 300.725 | H7: 155.493 | I7: 801.222 | J7: 127.14 | K7: 150.808 | L7: 0.948 | M7: 522.326 | N7: 1663.219
A8: Μάιος | B8: 1771.438 | C8: 1406.187 | D8: 177.557 | E8: 604.671 | F8: 113.601 | G8: 510.358 | H8: 365.251 | I8: 1195.528 | J8: 416.15 | K8: 123.91 | L8: 4.689 | M8: 650.779 | N8: 2966.966
A9: Ιούνιος | B9: 2600.441 | C9: 1949.309 | D9: 267.861 | E9: 768.783 | F9: 305.296 | G9: 607.369 | H9: 651.132 | I9: 2002.235 | J9: 811.185 | K9: 230.75 | L9: 3.043 | M9: 957.257 | N9: 4602.676
A10: Ιούλιος | B10: 4235.742 | C10: 2604.442 | D10: 362.402 | E10: 963.442 | F10: 404.317 | G10: 874.281 | H10: 1631.3 | I10: 2527.32 | J10: 777.123 | K10: 209.747 | L10: 5.395 | M10: 1535.055 | N10: 6763.062
A11: Αύγουστος | B11: 4636.894 | C11: 2927.16 | D11: 450.652 | E11: 1080.939 | F11: 555.27 | G11: 840.299 | H11: 1709.734 | I11: 2828.839 | J11: 978.429 | K11: 174.189 | L11: 4.11 | M11: 1672.111 | N11: 7465.733
A12: Σεπτέμβριος | B12: 3602.079 | C12: 2383.581 | D12: 285.919 | E12: 950.601 | F12: 371.508 | G12: 775.553 | H12: 1218.498 | I12: 2078.203 | J12: 778.872 | K12: 194.503 | L12: 0.049 | M12: 1104.779 | N12: 5680.282
A13: Οκτώβριος | B13: 2123.029 | C13: 1721.767 | D13: 165.923 | E13: 810.237 | F13: 147.312 | G13: 598.295 | H13: 401.262 | I13: 1537.158 | J13: 628.018 | K13: 124.852 | L13: 0 | M13: 784.288 | N13: 3660.186
A14: Νοέμβριος | B14: 698.811 | C14: 506.251 | D14: 72.358 | E14: 161.118 | F14: 45.425 | G14: 227.35 | H14: 192.56 | I14: 706.156 | J14: 91.574 | K14: 92.543 | L14: 0.961 | M14: 521.078 | N14: 1404.967
A15: Δεκέμβριος | B15: 705.247 | C15: 411.535 | D15: 36.048 | E15: 136.072 | F15: 59.415 | G15: 180 | H15: 293.712 | I15: 609.75 | J15: 117.169 | K15: 60.866 | L15: 0 | M15: 431.715 | N15: 1314.997
A16: Σύνολο | B16: 22414.742 | C16: 15523.517 | D16: 1983.351 | E16: 5951.379 | F16: 2200.459 | G16: 5388.328 | H16: 6891.225 | I16: 15566.355 | J16: 4893.132 | K16: 1550.844 | L16: 21.478 | M16: 9100.901 | N16: 37981.096
A18: 2024 | B18: =B2 -> Χώρες ΕΕ-27 | C18: =C2 -> Χώρες Ζώνης Ευρώ | D18: =D2 -> εκ των οποίων | H18: =H2 -> Χώρες εκτός Ζώνης Ευρώ | I18: =I2 -> Λοιπές Χώρες | J18: =J2 -> εκ των οποίων | N18: =N2 -> Σύνολο Έρ. Συνόρων
D19: =D3 -> Γαλλία | E19: =E3 -> Γερμανία | F19: =F3 -> Ιταλία | G19: =G3 -> Λοιπές | J19: =J3 -> Ην. Βασίλειο | K19: =K3 -> ΗΠΑ | L19: =L3 -> Ρωσία | M19: =M3 -> Λοιπές
A20: Ιανουάριος | B20: 367.501 | C20: 254.658 | D20: 42.595 | E20: 70.226 | F20: 38.251 | G20: 103.586 | H20: 112.843 | I20: 369.76 | J20: 36.167 | K20: 54.642 | L20: 0 | M20: 278.951 | N20: 737.261
A21: Φεβρουάριος | B21: 388.315 | C21: 257.872 | D21: 27.349 | E21: 62.499 | F21: 24.475 | G21: 143.549 | H21: 130.443 | I21: 333.021 | J21: 28.428 | K21: 41.09 | L21: 0 | M21: 263.503 | N21: 721.336
A22: Μάρτιος | B22: 431.314 | C22: 281.729 | D22: 48.167 | E22: 71.591 | F22: 42.386 | G22: 119.585 | H22: 149.585 | I22: 442.636 | J22: 53.514 | K22: 66.657 | L22: 1.223 | M22: 321.242 | N22: 873.951
A23: Απρίλιος | B23: 969.572 | C23: 769.306 | D23: 94.522 | E23: 254.707 | F23: 117.646 | G23: 302.431 | H23: 200.266 | I23: 593.917 | J23: 90.105 | K23: 105.087 | L23: 0 | M23: 398.725 | N23: 1563.489
A24: Μάιος | B24: 1861.555 | C24: 1472.291 | D24: 256.738 | E24: 605.426 | F24: 130.461 | G24: 479.666 | H24: 389.264 | I24: 1186.271 | J24: 457.606 | K24: 125.02 | L24: 1.419 | M24: 602.226 | N24: 3047.826
A25: Ιούνιος | B25: 2828.549 | C25: 1818.27 | D25: 206.683 | E25: 701.78 | F25: 235.364 | G25: 674.443 | H25: 1010.279 | I25: 1853.223 | J25: 705.751 | K25: 185.899 | L25: 2.86 | M25: 958.713 | N25: 4681.772
A26: Ιούλιος | B26: 3969.651 | C26: 2425.28 | D26: 388.464 | E26: 838.336 | F26: 402.139 | G26: 796.341 | H26: 1544.371 | I26: 2387.347 | J26: 894.512 | K26: 210.214 | L26: 3.47 | M26: 1279.151 | N26: 6356.998
A27: Αύγουστος | B27: 4439.054 | C27: 2838.584 | D27: 453.953 | E27: 1008.527 | F27: 553.163 | G27: 822.941 | H27: 1600.47 | I27: 2468.958 | J27: 870.768 | K27: 227.692 | L27: 0 | M27: 1370.498 | N27: 6908.011
A28: Σεπτέμβριος | B28: 3482.432 | C28: 2088.505 | D28: 200.894 | E28: 862.983 | F28: 276.093 | G28: 748.535 | H28: 1393.926 | I28: 2000.767 | J28: 751.224 | K28: 188.781 | L28: 1.934 | M28: 1058.828 | N28: 5483.199
A29: Οκτώβριος | B29: 1992.393 | C29: 1578.581 | D29: 192.905 | E29: 743.226 | F29: 117.429 | G29: 525.021 | H29: 413.812 | I29: 1421.746 | J29: 505.28 | K29: 164.536 | L29: 4.283 | M29: 747.647 | N29: 3414.14
A30: Νοέμβριος | B30: 628.719 | C30: 370.847 | D30: 38.166 | E30: 109.507 | F30: 56.068 | G30: 167.106 | H30: 257.872 | I30: 652.276 | J30: 98.361 | K30: 111.074 | L30: 0 | M30: 442.841 | N30: 1280.995
A31: Δεκέμβριος | B31: 436.012 | C31: 335.057 | D31: 42.007 | E31: 73.516 | F31: 32.377 | G31: 187.157 | H31: 100.955 | I31: 446.364 | J31: 53.773 | K31: 66.675 | L31: 0.923 | M31: 324.993 | N31: 882.376
A32: Σύνολο | B32: 21795.067 | C32: 14490.98 | D32: 1992.443 | E32: 5402.323 | F32: 2025.852 | G32: 5070.362 | H32: 7304.087 | I32: 14156.287 | J32: 4545.49 | K32: 1547.368 | L32: 16.112 | M32: 8047.317 | N32: 35951.354
A33: =A16 -> Σύνολο | B33: 21795.067 | C33: 14490.98 | D33: 1992.443 | E33: 5402.323 | F33: 2025.852 | G33: 5070.362 | H33: 7304.087 | I33: 14156.287 | J33: 4545.49 | K33: 1547.368 | L33: 16.112 | M33: 8047.317 | N33: 35951.354
A35: Δ2025/2024 | B35: =B2 -> Χώρες ΕΕ-27 | C35: =C2 -> Χώρες Ζώνης Ευρώ | D35: =D2 -> εκ των οποίων | H35: =H2 -> Χώρες εκτός Ζώνης Ευρώ | I35: =I2 -> Λοιπές Χώρες | J35: =J2 -> εκ των οποίων | K35: =#REF! -> #REF! | M35: =#REF! -> #REF! | N35: =N2 -> Σύνολο Έρ. Συνόρων
B36: =#REF! -> #REF! | C36: =#REF! -> #REF! | D36: =D3 -> Γαλλία | E36: =E3 -> Γερμανία | F36: =F3 -> Ιταλία | G36: =G3 -> Λοιπές | H36: =#REF! -> #REF! | I36: =#REF! -> #REF! | J36: =J3 -> Ην. Βασίλειο | K36: =K3 -> ΗΠΑ | L36: =L3 -> Ρωσία | M36: =M3 -> Λοιπές | N36: =#REF! -> #REF!
A37: Ιανουάριος | B37: =IFERROR(B4/B20-1,"") -> 0.030171346 | C37: =IFERROR(C4/C20-1,"") -> 0.25198894 | D37: =IFERROR(D4/D20-1,"") -> -0.45223618 | E37: =IFERROR(E4/E20-1,"") -> 0.3529462 | F37: =IFERROR(F4/F20-1,"") -> 0.19649159 | G37: =IFERROR(G4/G20-1,"") -> 0.49361883 | H37: =IFERROR(H4/H20-1,"") -> -0.47041465 | I37: =IFERROR(I4/I20-1,"") -> 0.19804197 | ... N37: =IFERROR(N4/N20-1,"") -> 0.11436384
A38: Φεβρουάριος | B38: =IFERROR(B5/B21-1,"") -> -0.064378147 | C38: =IFERROR(C5/C21-1,"") -> 0.022421977 | D38: =IFERROR(D5/D21-1,"") -> -0.43709094 | E38: =IFERROR(E5/E21-1,"") -> 0.058640938 | F38: =IFERROR(F5/F21-1,"") -> 0.43158325 | G38: =IFERROR(G5/G21-1,"") -> 0.024437648 | H38: =IFERROR(H5/H21-1,"") -> -0.2359728 | I38: =IFERROR(I5/I21-1,"") -> 0.058801097 | ... N38: =IFERROR(N5/N21-1,"") -> -0.0075096765
A39: Μάρτιος | B39: =IFERROR(B6/B22-1,"") -> 0.013551612 | C39: =IFERROR(C6/C22-1,"") -> 0.15109556 | D39: =IFERROR(D6/D22-1,"") -> -0.54576785 | E39: =IFERROR(E6/E22-1,"") -> 0.16324678 | F39: =IFERROR(F6/F22-1,"") -> 0.10458642 | G39: =IFERROR(G6/G22-1,"") -> 0.44099176 | H39: =IFERROR(H6/H22-1,"") -> -0.24549921 | I39: =IFERROR(I6/I22-1,"") -> 0.09424674 | ... N39: =IFERROR(N6/N22-1,"") -> 0.054419527
A40: Απρίλιος | B40: =IFERROR(B7/B23-1,"") -> -0.11095102 | C40: =IFERROR(C7/C23-1,"") -> -0.081633316 | D40: =IFERROR(D7/D23-1,"") -> 0.1005586 | E40: =IFERROR(E7/E23-1,"") -> -0.092832156 | F40: =IFERROR(F7/F23-1,"") -> -0.39912109 | G40: =IFERROR(G7/G23-1,"") -> -0.0056409561 | H40: =IFERROR(H7/H23-1,"") -> -0.22356766 | I40: =IFERROR(I7/I23-1,"") -> 0.34904709 | ... N40: =IFERROR(N7/N23-1,"") -> 0.063786825
A41: Μάιος | B41: =IFERROR(B8/B24-1,"") -> -0.048409529 | C41: =IFERROR(C8/C24-1,"") -> -0.044898733 | D41: =IFERROR(D8/D24-1,"") -> -0.30841169 | E41: =IFERROR(E8/E24-1,"") -> -0.0012470558 | F41: =IFERROR(F8/F24-1,"") -> -0.12923402 | G41: =IFERROR(G8/G24-1,"") -> 0.06398619 | H41: =IFERROR(H8/H24-1,"") -> -0.061688212 | I41: =IFERROR(I8/I24-1,"") -> 0.0078034446 | ... N41: =IFERROR(N8/N24-1,"") -> -0.026530386
A42: Ιούνιος | B42: =IFERROR(B9/B25-1,"") -> -0.080644882 | C42: =IFERROR(C9/C25-1,"") -> 0.072067955 | D42: =IFERROR(D9/D25-1,"") -> 0.29599919 | E42: =IFERROR(E9/E25-1,"") -> 0.09547579 | F42: =IFERROR(F9/F25-1,"") -> 0.29712275 | G42: =IFERROR(G9/G25-1,"") -> -0.099450954 | H42: =IFERROR(H9/H25-1,"") -> -0.35549289 | I42: =IFERROR(I9/I25-1,"") -> 0.080406945 | ... N42: =IFERROR(N9/N25-1,"") -> -0.016894458
A43: Ιούλιος | B43: =IFERROR(B10/B26-1,"") -> 0.067031333 | C43: =IFERROR(C10/C26-1,"") -> 0.073872707 | D43: =IFERROR(D10/D26-1,"") -> -0.067089872 | E43: =IFERROR(E10/E26-1,"") -> 0.14923133 | F43: =IFERROR(F10/F26-1,"") -> 0.0054160377 | G43: =IFERROR(G10/G26-1,"") -> 0.097872645 | H43: =IFERROR(H10/H26-1,"") -> 0.056287641 | I43: =IFERROR(I10/I26-1,"") -> 0.058631192 | ... N43: =IFERROR(N10/N26-1,"") -> 0.063876691
A44: Αύγουστος | B44: =IFERROR(B11/B27-1,"") -> 0.044568054 | C44: =IFERROR(C11/C27-1,"") -> 0.031204291 | D44: =IFERROR(D11/D27-1,"") -> -0.0072716779 | E44: =IFERROR(E11/E27-1,"") -> 0.071799763 | F44: =IFERROR(F11/F27-1,"") -> 0.0038090039 | G44: =IFERROR(G11/G27-1,"") -> 0.021092642 | H44: =IFERROR(H11/H27-1,"") -> 0.068269946 | I44: =IFERROR(I11/I27-1,"") -> 0.1457623 | ... N44: =IFERROR(N11/N27-1,"") -> 0.08073554
A45: Σεπτέμβριος | B45: =IFERROR(B12/B28-1,"") -> 0.034357311 | C45: =IFERROR(C12/C28-1,"") -> 0.14128575 | D45: =IFERROR(D12/D28-1,"") -> 0.42323315 | E45: =IFERROR(E12/E28-1,"") -> 0.10152923 | F45: =IFERROR(F12/F28-1,"") -> 0.34559007 | G45: =IFERROR(G12/G28-1,"") -> 0.036094505 | H45: =IFERROR(H12/H28-1,"") -> -0.12585173 | I45: =IFERROR(I12/I28-1,"") -> 0.038703157 | ... N45: =IFERROR(N12/N28-1,"") -> 0.035943069
A46: Οκτώβριος | B46: =IFERROR(B13/B29-1,"") -> 0.065567386 | C46: =IFERROR(C13/C29-1,"") -> 0.090705513 | D46: =IFERROR(D13/D29-1,"") -> -0.13987196 | E46: =IFERROR(E13/E29-1,"") -> 0.090162346 | F46: =IFERROR(F13/F29-1,"") -> 0.25447717 | G46: =IFERROR(G13/G29-1,"") -> 0.13956394 | H46: =IFERROR(H13/H29-1,"") -> -0.030327782 | I46: =IFERROR(I13/I29-1,"") -> 0.081176244 | ... N46: =IFERROR(N13/N29-1,"") -> 0.072066758
A47: Νοέμβριος | B47: =IFERROR(B14/B30-1,"") -> 0.11148383 | C47: =IFERROR(C14/C30-1,"") -> 0.36512093 | D47: =IFERROR(D14/D30-1,"") -> 0.89587591 | E47: =IFERROR(E14/E30-1,"") -> 0.4713032 | F47: =IFERROR(F14/F30-1,"") -> -0.18982307 | G47: =IFERROR(G14/G30-1,"") -> 0.36051369 | H47: =IFERROR(H14/H30-1,"") -> -0.25327294 | I47: =IFERROR(I14/I30-1,"") -> 0.08260307 | ... N47: =IFERROR(N14/N30-1,"") -> 0.096777895
A48: Δεκέμβριος | B48: =IFERROR(B15/B31-1,"") -> 0.61749447 | C48: =IFERROR(C15/C31-1,"") -> 0.2282537 | D48: =IFERROR(D15/D31-1,"") -> -0.14185731 | E48: =IFERROR(E15/E31-1,"") -> 0.85091681 | F48: =IFERROR(F15/F31-1,"") -> 0.83509899 | G48: =IFERROR(G15/G31-1,"") -> -0.038240622 | H48: =IFERROR(H15/H31-1,"") -> 1.9093358 | I48: =IFERROR(I15/I31-1,"") -> 0.36603758 | ... N48: =IFERROR(N15/N31-1,"") -> 0.49029099
A49: =A16 -> Σύνολο | B49: =IFERROR(B16/B33-1,"") -> 0.028431892 | C49: =IFERROR(C16/C33-1,"") -> 0.071253773 | D49: =IFERROR(D16/D33-1,"") -> -0.0045632422 | E49: =IFERROR(E16/E33-1,"") -> 0.10163332 | F49: =IFERROR(F16/F33-1,"") -> 0.086189416 | G49: =IFERROR(G16/G33-1,"") -> 0.06271071 | H49: =IFERROR(H16/H33-1,"") -> -0.056524792 | I49: =IFERROR(I16/I33-1,"") -> 0.099607192 | ... N49: =IFERROR(N16/N33-1,"") -> 0.056458013
A50: Πηγή: Τράπεζα της Ελλάδας - Επεξεργασία στοιχείων: INSETE Intelligence
A51: Βλ. Παράρτημα

Sheet table 6
A1: Πίνακας 6. Εισπράξεις σε εκατομμύρια €
A2: 2025 | B2: Χώρες ΕΕ-27 | C2: Χώρες Ζώνης Ευρώ | D2: εκ των οποίων | H2: Χώρες εκτός Ζώνης Ευρώ | I2: Λοιπές Χώρες | J2: εκ των οποίων | N2: Σύνολο Έρ. Συνόρων | O2: Κρουαζιέρες | P2: Σύνολο
D3: Γαλλία | E3: Γερμανία | F3: Ιταλία | G3: Λοιπές | J3: Ην. Βασίλειο | K3: ΗΠΑ | L3: Ρωσία | M3: Λοιπές
A4: Ιανουάριος | B4: 144.22944 | C4: 129.25175 | D4: 9.8364829 | E4: 35.500709 | F4: 22.893099 | G4: 61.021462 | H4: 14.977691 | I4: 155.97321 | J4: 25.303301 | K4: 40.884016 | L4: 1.6260921 | M4: 88.1598 | N4: 300.20265 | O4: 2.0163055 | P4: 302.21896
A5: Φεβρουάριος | B5: 137.94012 | C5: 111.60801 | D5: 8.1266682 | E5: 25.575057 | F5: 20.881092 | G5: 57.025195 | H5: 26.332113 | I5: 154.92269 | J5: 20.244477 | K5: 47.206576 | L5: 0 | M5: 87.47164 | N5: 292.86282 | O5: 4.2278885 | P5: 297.09071
A6: Μάρτιος | B6: 237.7354 | C6: 193.36627 | D6: 14.059054 | E6: 52.782004 | F6: 32.767046 | G6: 93.758169 | H6: 44.369125 | I6: 215.15597 | J6: 26.423545 | K6: 55.676151 | L6: 0.39995321 | M6: 132.65632 | N6: 452.89137 | O6: 20.521552 | P6: 473.41292
A7: Απρίλιος | B7: 505.72978 | C7: 427.29044 | D7: 78.168428 | E7: 183.2663 | F7: 33.709496 | G7: 132.14621 | H7: 78.439338 | I7: 514.28049 | J7: 95.783211 | K7: 181.68686 | L7: 0.43145258 | M7: 236.37896 | N7: 1020.0103 | O7: 64.323309 | P7: 1084.3336
A8: Μάιος | B8: 1324.9624 | C8: 1035.7162 | D8: 153.25728 | E8: 473.52419 | F8: 62.638984 | G8: 346.29573 | H8: 289.24626 | I8: 799.95547 | J8: 314.11709 | K8: 112.51023 | L8: 5.1678445 | M8: 368.1603 | N8: 2124.9179 | O8: 122.83617 | P8: 2247.7541
A9: Ιούνιος | B9: 1743.0312 | C9: 1410.8188 | D9: 192.00781 | E9: 594.5603 | F9: 180.01465 | G9: 444.23602 | H9: 332.21238 | I9: 1397.4328 | J9: 601.23715 | K9: 247.2953 | L9: 1.774938 | M9: 547.12538 | N9: 3140.4639 | O9: 166.22455 | P9: 3306.6885
A10: Ιούλιος | B10: 2652.2432 | C10: 1977.0083 | D10: 313.08019 | E10: 664.36777 | F10: 288.15431 | G10: 711.40597 | H10: 675.23491 | I10: 1619.7187 | J10: 549.87002 | K10: 249.76531 | L10: 7.7626752 | M10: 812.32068 | N10: 4271.9618 | O10: 251.9556 | P10: 4523.9175
A11: Αύγουστος | B11: 2440.9231 | C11: 1853.1005 | D11: 262.69338 | E11: 612.28884 | F11: 337.50755 | G11: 640.61075 | H11: 587.82255 | I11: 1863.3477 | J11: 848.6891 | K11: 205.34793 | L11: 4.872095 | M11: 804.43858 | N11: 4304.2708 | O11: 219.45704 | P11: 4523.7278
A12: Σεπτέμβριος | B12: 1801.455 | C12: 1316.9093 | D12: 168.70482 | E12: 477.5499 | F12: 212.51289 | G12: 458.14175 | H12: 484.54565 | I12: 1458.0279 | J12: 612.67012 | K12: 224.9346 | L12: 0.00075111921 | M12: 620.42241 | N12: 3259.4829 | O12: 161.82999 | P12: 3421.3129
A13: Οκτώβριος | B13: 1138.525 | C13: 979.1028 | D13: 93.588759 | E13: 495.43807 | F13: 77.614282 | G13: 312.46169 | H13: 159.42222 | I13: 947.0357 | J13: 453.65235 | K13: 144.728 | L13: 0 | M13: 348.65535 | N13: 2085.5607 | O13: 166.91489 | P13: 2252.4756
A14: Νοέμβριος | B14: 331.88648 | C14: 266.24007 | D14: 45.703005 | E14: 80.475149 | F14: 27.753198 | G14: 112.30871 | H14: 65.646413 | I14: 364.01625 | J14: 52.510173 | K14: 71.638316 | L14: 1.3890267 | M14: 238.47873 | N14: 695.90273 | O14: 30.353987 | P14: 726.25671
A15: Δεκέμβριος | B15: 295.07643 | C15: 212.21232 | D15: 15.872426 | E15: 60.320925 | F15: 31.368882 | G15: 104.65009 | H15: 82.864105 | I15: 322.39544 | J15: 83.75406 | K15: 55.49623 | L15: 0 | M15: 183.14515 | N15: 617.47187 | O15: 5.5628919 | P15: 623.03476
A16: Σύνολο | B16: 12695.899 | C16: 9853.8993 | D16: 1333.6559 | E16: 3783.995 | F16: 1287.5767 | G16: 3448.6716 | H16: 2842.0002 | I16: 9890.905 | J16: 3744.3192 | K16: 1717.7881 | L16: 23.847036 | M16: 4404.9507 | N16: 22586.804 | O16: 1039.2371 | P16: 23626.042
A18: 2024 | B18: =B2 -> Χώρες ΕΕ-27 | C18: =C2 -> Χώρες Ζώνης Ευρώ | D18: =D2 -> εκ των οποίων | H18: =H2 -> Χώρες εκτός Ζώνης Ευρώ | I18: =I2 -> Λοιπές Χώρες | J18: =J2 -> εκ των οποίων | N18: =N2 -> Σύνολο Έρ. Συνόρων | O18: =O2 -> Κρουαζιέρες | P18: =P2 -> Σύνολο
D19: =D3 -> Γαλλία | E19: =E3 -> Γερμανία | F19: =F3 -> Ιταλία | G19: =G3 -> Λοιπές | J19: =J3 -> Ην. Βασίλειο | K19: =K3 -> ΗΠΑ | L19: =L3 -> Ρωσία | M19: =M3 -> Λοιπές
A20: Ιανουάριος | B20: 147.97323 | C20: 117.65421 | D20: 18.665472 | E20: 30.561493 | F20: 19.500773 | G20: 48.926472 | H20: 30.319022 | I20: 131.21906 | J20: 18.548205 | K20: 33.946777 | L20: 0 | M20: 78.724077 | N20: 279.19229 | O20: 1.833005 | P20: 281.0253
A21: Φεβρουάριος | B21: 156.44923 | C21: 128.27497 | D21: 13.962778 | E21: 33.084294 | F21: 12.261548 | G21: 68.966346 | H21: 28.174265 | I21: 135.23556 | J21: 15.371017 | K21: 24.329038 | L21: 0 | M21: 95.5355 | N21: 291.68479 | O21: 3.843535 | P21: 295.52832
A22: Μάρτιος | B22: 213.93157 | C22: 190.90084 | D22: 16.195747 | E22: 72.433667 | F22: 25.584333 | G22: 76.687095 | H22: 23.030733 | I22: 218.22986 | J22: 27.166809 | K22: 79.294925 | L22: 1.5915453 | M22: 110.17659 | N22: 432.16144 | O22: 18.322815 | P22: 450.48425
A23: Απρίλιος | B23: 526.31395 | C23: 476.93416 | D23: 98.083239 | E23: 158.66936 | F23: 60.706424 | G23: 159.47513 | H23: 49.379799 | I23: 340.91769 | J23: 74.883907 | K23: 100.39608 | L23: 0.11284029 | M23: 165.52487 | N23: 867.23165 | O23: 56.423955 | P23: 923.6556
A24: Μάιος | B24: 1053.398 | C24: 900.04895 | D24: 139.42457 | E24: 407.70775 | F24: 54.967991 | G24: 297.94864 | H24: 153.34904 | I24: 749.38827 | J24: 288.36281 | K24: 156.17074 | L24: 1.409126 | M24: 303.4456 | N24: 1802.7863 | O24: 106.81406 | P24: 1909.6003
A25: Ιούνιος | B25: 1651.9845 | C25: 1242.9646 | D25: 160.09756 | E25: 501.16777 | F25: 143.25205 | G25: 438.44723 | H25: 409.0199 | I25: 1247.7572 | J25: 583.93548 | K25: 150.12366 | L25: 2.4198559 | M25: 511.27816 | N25: 2899.7417 | O25: 138.52046 | P25: 3038.2621
A26: Ιούλιος | B26: 2156.7723 | C26: 1612.8591 | D26: 218.84268 | E26: 537.58751 | F26: 287.11459 | G26: 569.31429 | H26: 543.91323 | I26: 1589.2751 | J26: 672.36213 | K26: 217.07245 | L26: 2.6171663 | M26: 697.22331 | N26: 3746.0474 | O26: 186.63378 | P26: 3932.6811
A27: Αύγουστος | B27: 2489.5099 | C27: 1959.2843 | D27: 304.50093 | E27: 733.03954 | F27: 366.94331 | G27: 554.80054 | H27: 530.22559 | I27: 1427.8905 | J27: 606.41609 | K27: 211.97472 | L27: 0 | M27: 609.49973 | N27: 3917.4005 | O27: 175.56563 | P27: 4092.9661
A28: Σεπτέμβριος | B28: 2005.5849 | C28: 1514.0526 | D28: 140.62699 | E28: 666.07684 | F28: 149.17195 | G28: 558.17683 | H28: 491.53226 | I28: 1407.6799 | J28: 480.75508 | K28: 279.31525 | L28: 3.9603397 | M28: 643.64925 | N28: 3413.2648 | O28: 134.85833 | P28: 3548.1231
A29: Οκτώβριος | B29: 1061.4286 | C29: 925.00317 | D29: 110.53407 | E29: 451.16001 | F29: 58.939151 | G29: 304.36993 | H29: 136.42547 | I29: 875.88727 | J29: 317.37657 | K29: 171.35958 | L29: 2.4071278 | M29: 384.744 | N29: 1937.3159 | O29: 145.14339 | P29: 2082.4593
A30: Νοέμβριος | B30: 236.65416 | C30: 172.76811 | D30: 20.297498 | E30: 43.481054 | F30: 27.331338 | G30: 81.658215 | H30: 63.886054 | I30: 304.68523 | J30: 44.268421 | K30: 107.44027 | L30: 0 | M30: 152.97654 | N30: 541.33939 | O30: 27.594534 | P30: 568.93393
A31: Δεκέμβριος | B31: 266.12166 | C31: 233.53595 | D31: 18.345405 | E31: 67.026757 | F31: 19.681358 | G31: 128.48243 | H31: 32.585712 | I31: 197.41947 | J31: 30.348003 | K31: 52.329217 | L31: 1.1746407 | M31: 113.56761 | N31: 463.54113 | O31: 5.0571744 | P31: 468.5983
... A33: Tρέχον έτος | B33: 11966.122 | C33: 9474.281 | D33: 1259.5769 | E33: 3701.9961 | F33: 1225.4548 | G33: 3287.2531 | H33: 2491.8411 | I33: 8625.5851 | J33: 3159.7945 | K33: 1583.7527 | L33: 15.692642 | M33: 3866.3452 | N33: 20591.707 | O33: 1000.6107 | P33: 21592.318
A35: Δ2025/2024 | B35: =B2 -> Χώρες ΕΕ-27 | C35: =C2 -> Χώρες Ζώνης Ευρώ | D35: =D2 -> εκ των οποίων | H35: =H2 -> Χώρες εκτός Ζώνης Ευρώ | I35: =I2 -> Λοιπές Χώρες | J35: =J2 -> εκ των οποίων | K35: =#REF! -> #REF! | M35: =#REF! -> #REF! | N35: =N2 -> Σύνολο Έρ. Συνόρων | O35: =O2 -> Κρουαζιέρες | P35: =P2 -> Σύνολο
C36: =#REF! -> #REF! | D36: =D3 -> Γαλλία | E36: =E3 -> Γερμανία | F36: =F3 -> Ιταλία | G36: =G3 -> Λοιπές | H36: =#REF! -> #REF! | I36: =#REF! -> #REF! | J36: =J3 -> Ην. Βασίλειο | K36: =K3 -> ΗΠΑ | L36: =L3 -> Ρωσία | M36: =M3 -> Λοιπές | N36: =#REF! -> #REF! | O36: =#REF! -> #REF! | P36: =#REF! -> #REF!
A37: Ιανουάριος | B37: =IFERROR(B4/B20-1,"") -> -0.025300442 | C37: =IFERROR(C4/C20-1,"") -> 0.098573129 | D37: =IFERROR(D4/D20-1,"") -> -0.47301182 | E37: =IFERROR(E4/E20-1,"") -> 0.16161565 | F37: =IFERROR(F4/F20-1,"") -> 0.17395854 | G37: =IFERROR(G4/G20-1,"") -> 0.24720748 | H37: =IFERROR(H4/H20-1,"") -> -0.50599691 | I37: =IFERROR(I4/I20-1,"") -> 0.18864753 | ... P37: =IFERROR(P4/P20-1,"") -> 0.0754155
A38: Φεβρουάριος | B38: =IFERROR(B5/B21-1,"") -> -0.11830743 | C38: =IFERROR(C5/C21-1,"") -> -0.12993146 | D38: =IFERROR(D5/D21-1,"") -> -0.41797628 | E38: =IFERROR(E5/E21-1,"") -> -0.22697287 | F38: =IFERROR(F5/F21-1,"") -> 0.70297357 | G38: =IFERROR(G5/G21-1,"") -> -0.17314461 | H38: =IFERROR(H5/H21-1,"") -> -0.065384222 | I38: =IFERROR(I5/I21-1,"") -> 0.14557664 | ... P38: =IFERROR(P5/P21-1,"") -> 0.005286753
A39: Μάρτιος | B39: =IFERROR(B6/B22-1,"") -> 0.1112684 | C39: =IFERROR(C6/C22-1,"") -> 0.012914724 | D39: =IFERROR(D6/D22-1,"") -> -0.13192928 | E39: =IFERROR(E6/E22-1,"") -> -0.27130565 | F39: =IFERROR(F6/F22-1,"") -> 0.28074654 | G39: =IFERROR(G6/G22-1,"") -> 0.22260687 | H39: =IFERROR(H6/H22-1,"") -> 0.92651817 | I39: =IFERROR(I6/I22-1,"") -> -0.014085569 | ... P39: =IFERROR(P6/P22-1,"") -> 0.050897828
A40: Απρίλιος | B40: =IFERROR(B7/B23-1,"") -> -0.039110078 | C40: =IFERROR(C7/C23-1,"") -> -0.10408925 | D40: =IFERROR(D7/D23-1,"") -> -0.2030399 | E40: =IFERROR(E7/E23-1,"") -> 0.15502007 | F40: =IFERROR(F7/F23-1,"") -> -0.44471288 | G40: =IFERROR(G7/G23-1,"") -> -0.17136789 | H40: =IFERROR(H7/H23-1,"") -> 0.58849042 | I40: =IFERROR(I7/I23-1,"") -> 0.50851803 | ... P40: =IFERROR(P7/P23-1,"") -> 0.17395874
A41: Μάιος | B41: =IFERROR(B8/B24-1,"") -> 0.25779853 | C41: =IFERROR(C8/C24-1,"") -> 0.15073318 | D41: =IFERROR(D8/D24-1,"") -> 0.099212913 | E41: =IFERROR(E8/E24-1,"") -> 0.16143043 | F41: =IFERROR(F8/F24-1,"") -> 0.1395538 | G41: =IFERROR(G8/G24-1,"") -> 0.16226653 | H41: =IFERROR(H8/H24-1,"") -> 0.88619542 | I41: =IFERROR(I8/I24-1,"") -> 0.067477971 | ... P41: =IFERROR(P8/P24-1,"") -> 0.17708091
A42: Ιούνιος | B42: =IFERROR(B9/B25-1,"") -> 0.055113497 | C42: =IFERROR(C9/C25-1,"") -> 0.1350434 | D42: =IFERROR(D9/D25-1,"") -> 0.19931753 | E42: =IFERROR(E9/E25-1,"") -> 0.18634982 | F42: =IFERROR(F9/F25-1,"") -> 0.25662877 | G42: =IFERROR(G9/G25-1,"") -> 0.01320293 | H42: =IFERROR(H9/H25-1,"") -> -0.18778431 | I42: =IFERROR(I9/I25-1,"") -> 0.11995571 | ... P42: =IFERROR(P9/P25-1,"") -> 0.088348642
A43: Ιούλιος | B43: =IFERROR(B10/B26-1,"") -> 0.22972794 | C43: =IFERROR(C10/C26-1,"") -> 0.22577867 | D43: =IFERROR(D10/D26-1,"") -> 0.43061764 | E43: =IFERROR(E10/E26-1,"") -> 0.23583187 | F43: =IFERROR(F10/F26-1,"") -> 0.0036212747 | G43: =IFERROR(G10/G26-1,"") -> 0.2495839 | H43: =IFERROR(H10/H26-1,"") -> 0.24143866 | I43: =IFERROR(I10/I26-1,"") -> 0.019155667 | ... P43: =IFERROR(P10/P26-1,"") -> 0.15033924
A44: Αύγουστος | B44: =IFERROR(B11/B27-1,"") -> -0.019516634 | C44: =IFERROR(C11/C27-1,"") -> -0.054195203 | D44: =IFERROR(D11/D27-1,"") -> -0.1372986 | E44: =IFERROR(E11/E27-1,"") -> -0.16472605 | F44: =IFERROR(F11/F27-1,"") -> -0.080218826 | G44: =IFERROR(G11/G27-1,"") -> 0.15466857 | H44: =IFERROR(H11/H27-1,"") -> 0.10862727 | I44: =IFERROR(I11/I27-1,"") -> 0.30496537 | ... P44: =IFERROR(P11/P27-1,"") -> 0.10524439
A45: Σεπτέμβριος | B45: =IFERROR(B12/B28-1,"") -> -0.10178072 | C45: =IFERROR(C12/C28-1,"") -> -0.13020899 | D45: =IFERROR(D12/D28-1,"") -> 0.19966178 | E45: =IFERROR(E12/E28-1,"") -> -0.28304084 | F45: =IFERROR(F12/F28-1,"") -> 0.42461692 | G45: =IFERROR(G12/G28-1,"") -> -0.17921754 | H45: =IFERROR(H12/H28-1,"") -> -0.014213938 | I45: =IFERROR(I12/I28-1,"") -> 0.035766617 | ... P45: =IFERROR(P12/P28-1,"") -> -0.035740093
A46: Οκτώβριος | B46: =IFERROR(B13/B29-1,"") -> 0.072634549 | C46: =IFERROR(C13/C29-1,"") -> 0.058485892 | D46: =IFERROR(D13/D29-1,"") -> -0.15330396 | E46: =IFERROR(E13/E29-1,"") -> 0.098142683 | F46: =IFERROR(F13/F29-1,"") -> 0.31685443 | G46: =IFERROR(G13/G29-1,"") -> 0.026585284 | H46: =IFERROR(H13/H29-1,"") -> 0.16856644 | I46: =IFERROR(I13/I29-1,"") -> 0.081230118 | ... P46: =IFERROR(P13/P29-1,"") -> 0.081642088
A47: Νοέμβριος | B47: =IFERROR(B14/B30-1,"") -> 0.40241135 | C47: =IFERROR(C14/C30-1,"") -> 0.54102556 | D47: =IFERROR(D14/D30-1,"") -> 1.2516571 | E47: =IFERROR(E14/E30-1,"") -> 0.8508095 | F47: =IFERROR(F14/F30-1,"") -> 0.015435054 | G47: =IFERROR(G14/G30-1,"") -> 0.37535107 | H47: =IFERROR(H14/H30-1,"") -> 0.027554667 | I47: =IFERROR(I14/I30-1,"") -> 0.19472888 | ... P47: =IFERROR(P14/P30-1,"") -> 0.27652207
A48: Δεκέμβριος | B48: =IFERROR(B15/B31-1,"") -> 0.10880275 | C48: =IFERROR(C15/C31-1,"") -> -0.091307681 | D48: =IFERROR(D15/D31-1,"") -> -0.13480099 | E48: =IFERROR(E15/E31-1,"") -> -0.10004709 | F48: =IFERROR(F15/F31-1,"") -> 0.59383724 | G48: =IFERROR(G15/G31-1,"") -> -0.18549104 | H48: =IFERROR(H15/H31-1,"") -> 1.5429583 | I48: =IFERROR(I15/I31-1,"") -> 0.63304787 | ... P48: =IFERROR(P15/P31-1,"") -> 0.3295711
A49: Tρέχον έτος | B49: =IFERROR(B16/B33-1,"") -> 0.060986961 | C49: =IFERROR(C16/C33-1,"") -> 0.040068295 | D49: =IFERROR(D16/D33-1,"") -> 0.058812601 | E49: =IFERROR(E16/E33-1,"") -> 0.022149935 | F49: =IFERROR(F16/F33-1,"") -> 0.050692907 | G49: =IFERROR(G16/G33-1,"") -> 0.049104356 | H49: =IFERROR(H16/H33-1,"") -> 0.14052226 | I49: =IFERROR(I16/I33-1,"") -> 0.1466938 | ... P49: =IFERROR(P16/P33-1,"") -> 0.094187375
A50: Πηγή: Τράπεζα της Ελλάδας - Επεξεργασία στοιχείων: INSETE Intelligence
A51: Βλ. Παράρτημα
